Workbook

Sheet Strona tytułowa
D4: BIULETYN INFORMACYJNY TURYSTYCZNY FUNDUSZ GWARANCYJNY I kwartał 2025 r.

Sheet Spis treści
B3: SPIS TREŚCI
B7: Nota metodyczna
B8: 1. Liczba deklaracji
B9: 2. Dane ogólne
B10: 3. Umowy OT
B11: 4. Podróżni OT
B12: 5. Umowy PUNPUT
B13: 6. Podróżni PUNPUT
B14: 7. Liczba umów w podziale na miesiące
B15: 8. Niewypłacalności

Sheet Nota metodyczna
B2: Powrót do spisu treści
B4: Nota metodyczna
B6: 1. Przedstawione zestawienie przygotowane zostało na podstawie danych zawartych w bazie danych Turystycznego Funduszu Gwarancyjnego. Turystyczny Fundusz Gwarancyjny działa na mocy ustawy z dnia 24 listopada 2017 r. o imprezach turystycznych i powiązanych usługach turystycznych (Dz. U. z 2017 r. poz. 2361 z późn. zm.). Turystyczny Fundusz Gwarancyjny gromadzi dane dotyczące liczby i rodzaju zawartych w danym miesiącu umów o udział w imprezie turystycznej oraz umów z przedsiębiorcą ułatwiającym nabywanie powiązanych usług turystycznych oraz liczby podróżnych objętych tymi umowami. Dodatkowo gromadzone są informacje na temat liczby umów i liczby podróżnych, których imprezy turystyczne zostały odwołane przez organizatora turystyki z powodu niewystarczającej liczby zgłoszeń, jeżeli realizacja imprezy turystycznej była uzależniona od liczby zgłoszeń, podróżnych, którzy rozwiązali umowę o udział w imprezie turystycznej lub umowę zawartą z przedsiębiorcą ułatwiającym nabywanie powiązanych usług turystycznych lub odstąpili od takiej umowy, a także podróżnych, których umowy zostały zmienione w sposób umożliwiający zarachowanie odprowadzonej składki.
B7: 2. Dane gromadzone są w bazie Turystycznego Funduszu Gwarancyjnego od 01.12.2016 r.
B8: 3. Niniejszy biuletyn przedstawia stan bazy danych TFG aktualny na dzień przygotowania biuletynu. Zawarte w biuletynie informacje mogą różnić się w kolejnych wydaniach biuletynu ze względu na ciągły proces uzupełniania deklaracji przez przedziębiorców turystycznych i poprawiania deklaracji będący efektem kontroli przeprowadzanych przez Marszałków Województw.
B9: 4. Przedstawione zestawienia przygotowane zostały według stanu bazy na dzień 25.04.2025 r.
B10: 5. Użyte pojęcia oznaczają:
B12: Od 1 lipca 2018 r. obowiązuje następujące rozróżnienie działalności wykonywanej przez przedsiębiorców turystycznych:
B13: -- OT - Organizator Turystyki
B14: -- Dział I OT - Terytorium państw europejskich i pozaeuropejskich z wykorzystaniem transportu lotniczego w ramach przewozu czarterowego, z wyłączeniem pkt 6
B15: -- Dział II OT - Terytorium państw pozaeuropejskich z wykorzystaniem innego środka transportu niż transport lotniczy w ramach przewozu czarterowego
B16: -- Dział III OT - Terytorium państw pozaeuropejskich, jeżeli nie jest realizowana usługa transportowa
... B28: -- korekta - dane dotyczące liczby umów i liczby podróżnych, których imprezy turystyczne zostały odwołane przez organizatora turystyki z powodu niewystarczającej liczby zgłoszeń, jeżeli realizacja imprezy turystycznej była uzależniona od liczby zgłoszeń, podróżnych, którzy rozwiązali umowę o udział w imprezie turystycznej lub umowę zawartą z przedsiębiorcą ułatwiającym nabywanie powiązanych usług turystycznych lub odstąpili od takiej umowy, a także podróżnych, których umowy zostały zmienione w sposób umożliwiający zarachowanie odprowadzonej składki.

Sheet 1. Liczba deklaracji
B2: Powrót do spisu treści
B4: Tabela 1.1. Liczba deklaracji złożonych za poszczególne kwartały
C6: Q1 | D6: Q2 | E6: Q3 | F6: Q4
B8: 2019 | C8: 12434 | D8: 12724 | E8: 12792 | F8: 12640
B9: 2020 | C9: 12587 | D9: 11883 | E9: 11813 | F9: 11330
B10: 2021 | C10: 10933 | D10: 11147 | E10: 11669 | F10: 11588
B11: 2022 | C11: 11637 | D11: 12019 | E11: 12194 | F11: 12186
B12: 2023 | C12: 12400 | D12: 12897 | E12: 13127 | F12: 13109
B13: 2024 | C13: 13279 | D13: 13764 | E13: 13926 | F13: 13848
B14: 2025 | C14: 12199
B17: Rysunek 1.1. Liczba deklaracji złożonych za poszczególne kwartały
B18: Trend 2019 | C18: 1 | D18: =#REF!/#REF! -> #REF! | E18: =#REF!/#REF! -> #REF! | F18: =#REF!/#REF! -> #REF!
B19: Trend 2020 | C19: 1 | D19: =D8/C8 -> 1.0233231 | E19: =E8/D8 -> 1.0053442 | F19: =F8/E8 -> 0.98811757
B20: Trend 2021 | C20: 1 | D20: =D10/C10 -> 1.0195738 | E20: =E10/D10 -> 1.0468287 | F20: =F10/E10 -> 0.99305853
B21: Trend 2022 | C21: 1 | D21: =D11/C11 -> 1.0328263 | E21: =E11/D11 -> 1.0145603 | F21: =F11/E11 -> 0.99934394
I24: Q1 2017 | J24: Q2 2017 | K24: Q3 2017 | L24: Q4 2017
I25: 10981 | J25: 11174 | K25: 11123 | L25: 10900
J26: =CONCATENATE(J24,"/",I24) -> Q2 2017/Q1 2017 | K26: =CONCATENATE(K24,"/",J24) -> Q3 2017/Q2 2017 | L26: =CONCATENATE(L24,"/",K24) -> Q4 2017/Q3 2017
I27: 1 | J27: =J25/I25 -> 1.0175758 | K27: =K25/J25 -> 0.99543583 | L27: =L25/K25 -> 0.97995145
I28: =I25/4*3 -> 8235.75 | J28: =J25/4*3 -> 8380.5 | K28: =K25/4*3 -> 8342.25 | L28: =L25/4*3 -> 8175

Sheet 2. Dane ogólne
B2: Powrót do spisu treści
B4: Tabela 2.1. Liczba umów i podróżnych OT | K4: Tabela 2.2. Liczba umów i podróżnych PUNPUT
C6: 2019 | D6: 2020 | E6: 2021 | F6: 2022 | G6: 2023 | H6: 2024 | I6: 2025 Q1 | L6: 2019 | M6: 2020 | N6: 2021 | O6: 2022 | P6: 2023 | Q6: 2024 | R6: 2025 Q1
H7: Q1 | I7: Q1 | J7: Q2 | Q7: Q1 | R7: Q1
B8: Umowy | C8: 2597215 | D8: 509533 | E8: 1536686 | F8: 2154058 | G8: 2595394 | H8: 3033533 | I8: 863236 | K8: Umowy | L8: 17996 | M8: 5873 | N8: 6579 | O8: 16558 | P8: 25742 | Q8: 10804 | R8: 4125
B9: Podróżni | C9: 7746784 | D9: 1076802 | E9: 4071779 | F9: 6300739 | G9: 7566946 | H9: 8760965 | I9: 2341735 | K9: Podróżni | L9: 38911 | M9: 12132 | N9: 18304 | O9: 42478 | P9: 78148 | Q9: 43219 | R9: 10710
B12: Rysunek 2.1. Liczba umów i podróżnych OT w podziale na lata | K12: Rysunek 2.2. Liczba umów i podróżnych PUNPUT w podziale na lata
C16: 2019 | D16: 2020 | E16: 2021 | F16: 2022 | G16: 2023 | H16: 2024 | I16: 2025 | L16: =L6 -> 2019 | M16: 2020 | N16: =N6 -> 2021 | O16: =O6 -> 2022 | P16: =P6 -> 2023 | Q16: =Q6 -> 2024 | R16: 2025
B17: Umowy | C17: 2597215 | D17: 509533 | E17: 1536686 | F17: 2154058 | G17: 2595394 | H17: 3033533 | I17: 863236 | K17: Umowy | L17: 17996 | M17: 5873 | N17: 6579 | O17: 16558 | P17: 25742 | Q17: 10804 | R17: 4125
B18: Podróżni | C18: 7746784 | D18: 1076802 | E18: 4071779 | F18: 6300739 | G18: 7566946 | H18: 8760965 | I18: 2341735 | K18: Podróżni | L18: 38911 | M18: 12132 | N18: 18304 | O18: 42478 | P18: 78148 | Q18: 43219 | R18: 10710

Sheet 3. Umowy OT
B2: Powrót do spisu treści
C4: Tabela 3.1. Liczba umów OT w podziale na działy, lata oraz przekazane i korekta
E6: 2019 | F6: 2020 | G6: 2021 | H6: 2022 | I6: 2023 | J6: 2024 | K6: 2025 Q1
J7: Q1 | K7: Q1
C8: Przekazane | D8: dział I | E8: 1231817 | F8: 505572 | G8: 851678 | H8: 1195666 | I8: 1590805 | J8: 1943504 | K8: 517677
D9: dział II | E9: 114884 | F9: 35765 | G9: 56148 | H9: 110038 | I9: 139147 | J9: 157506 | K9: 50194
D10: dział III | E10: 6264 | F10: 2039 | G10: 3455 | H10: 7471 | I10: 10313 | J10: 12909 | K10: 3964
D11: dział IV | E11: 331295 | F11: 106361 | G11: 135994 | H11: 271718 | I11: 365609 | J11: 459119 | K11: 158294
D12: dział V | E12: 29693 | F12: 14752 | G12: 31301 | H12: 39799 | I12: 50388 | J12: 55994 | K12: 12993
D13: dział VI | E13: 999362 | F13: 402705 | G13: 638190 | H13: 638500 | I13: 559457 | J13: 528893 | K13: 148934
C14: Korekta | D14: dział I | E14: 56266 | F14: 379093 | G14: 117671 | H14: 51733 | I14: 67302 | J14: 76562 | K14: 18101
D15: dział II | E15: 9477 | F15: 31907 | G15: 13434 | H15: 14697 | I15: 14165 | J15: 11727 | K15: 3014
D16: dział III | E16: 238 | F16: 904 | G16: 461 | H16: 361 | I16: 468 | J16: 448 | K16: 101
D17: dział IV | E17: 24457 | F17: 75178 | G17: 24097 | H17: 20539 | I17: 21228 | J17: 18420 | K17: 4219
D18: dział V | E18: 801 | F18: 5476 | G18: 4116 | H18: 1548 | I18: 1038 | J18: 1177 | K18: 350
D19: dział VI | E19: 24861 | F19: 65103 | G19: 20301 | H19: 20256 | I19: 16124 | J19: 16058 | K19: 3035
C22: Rysunek 3.1. Liczba umów OT od 2019 roku w podziale na działy i lata
E24: =E6 -> 2019 | F24: 2020 | G24: =G6 -> 2021 | H24: =H6 -> 2022 | I24: =I6 -> 2023 | J24: =J6 -> 2024 | K24: 2025
D25: dział I | E25: =E8 -> 1231817 | F25: =F8 -> 505572 | G25: =G8 -> 851678 | H25: =H8 -> 1195666 | I25: =I8 -> 1590805 | J25: =J8 -> 1943504 | K25: =K8 -> 517677
D26: dział II | E26: =E9 -> 114884 | F26: =F9 -> 35765 | G26: =G9 -> 56148 | H26: =H9 -> 110038 | I26: =I9 -> 139147 | J26: =J9 -> 157506 | K26: =K9 -> 50194
D27: dział III | E27: =E10 -> 6264 | F27: =F10 -> 2039 | G27: =G10 -> 3455 | H27: =H10 -> 7471 | I27: =I10 -> 10313 | J27: =J10 -> 12909 | K27: =K10 -> 3964
D28: dział IV | E28: =E11 -> 331295 | F28: =F11 -> 106361 | G28: =G11 -> 135994 | H28: =H11 -> 271718 | I28: =I11 -> 365609 | J28: =J11 -> 459119 | K28: =K11 -> 158294
D29: dział V | E29: =E12 -> 29693 | F29: =F12 -> 14752 | G29: =G12 -> 31301 | H29: =H12 -> 39799 | I29: =I12 -> 50388 | J29: =J12 -> 55994 | K29: =K12 -> 12993
D30: dział VI | E30: =E13 -> 999362 | F30: =F13 -> 402705 | G30: =G13 -> 638190 | H30: =H13 -> 638500 | I30: =I13 -> 559457 | J30: =J13 -> 528893 | K30: =K13 -> 148934

Sheet 4. Podróżni OT
B2: Powrót do spisu treści
C4: Tabela 4.1. Liczba podróżnych OT w podziale na działy, lata oraz przekazane i korekta
E6: 2019 | F6: 2020 | G6: 2021 | H6: 2022 | I6: 2023 | J6: 2024 | K6: 2025 Q1
J7: Q1 | K7: Q1
C8: Przekazane | D8: dział I | E8: 3310325 | F8: 1360233 | G8: 2211639 | H8: 3181957 | I8: 4260857 | J8: 5248257 | K8: 1433290
D9: dział II | E9: 263628 | F9: 79446 | G9: 126751 | H9: 254446 | I9: 318043 | J9: 359308 | K9: 116789
D10: dział III | E10: 11672 | F10: 3616 | G10: 6084 | H10: 12669 | I10: 19418 | J10: 24031 | K10: 6369
D11: dział IV | E11: 873969 | F11: 244208 | G11: 289298 | H11: 655077 | I11: 918007 | J11: 1162998 | K11: 373826
D12: dział V | E12: 83314 | F12: 36728 | G12: 74752 | H12: 101228 | I12: 128886 | J12: 147463 | K12: 30767
D13: dział VI | E13: 3488004 | F13: 1045532 | G13: 1821902 | H13: 2335142 | I13: 2195292 | J13: 2110364 | K13: 446953
C14: Korekta | D14: dział I | E14: 152690 | F14: 1088849 | G14: 319806 | H14: 127452 | I14: 170049 | J14: 191508 | K14: 45815
D15: dział II | E15: 17378 | F15: 70840 | G15: 29101 | H15: 29965 | I15: 28983 | J15: 23319 | K15: 6068
D16: dział III | E16: 416 | F16: 1530 | G16: 750 | H16: 601 | I16: 977 | J16: 783 | K16: 172
D17: dział IV | E17: 55230 | F17: 208526 | G17: 52543 | H17: 40792 | I17: 42295 | J17: 38971 | K17: 8163
D18: dział V | E18: 2172 | F18: 16086 | G18: 10083 | H18: 4322 | I18: 2592 | J18: 2903 | K18: 941
D19: dział VI | E19: 56242 | F19: 307130 | G19: 46364 | H19: 36648 | I19: 28661 | J19: 33972 | K19: 5100
C22: Rysunek 4.1. Liczba podróżnych OT od 2019 roku w podziale na działy i lata
E24: 2019 | F24: 2020 | G24: 2021 | H24: 2022 | I24: 2023 | J24: 2024 | K24: 2025
D25: dział I | E25: =E8 -> 3310325 | F25: =F8 -> 1360233 | G25: =G8 -> 2211639 | H25: =H8 -> 3181957 | I25: =I8 -> 4260857 | J25: =J8 -> 5248257 | K25: =K8 -> 1433290
D26: dział II | E26: =E9 -> 263628 | F26: =F9 -> 79446 | G26: =G9 -> 126751 | H26: =H9 -> 254446 | I26: =I9 -> 318043 | J26: =J9 -> 359308 | K26: =K9 -> 116789
D27: dział III | E27: =E10 -> 11672 | F27: =F10 -> 3616 | G27: =G10 -> 6084 | H27: =H10 -> 12669 | I27: =I10 -> 19418 | J27: =J10 -> 24031 | K27: =K10 -> 6369
D28: dział IV | E28: =E11 -> 873969 | F28: =F11 -> 244208 | G28: =G11 -> 289298 | H28: =H11 -> 655077 | I28: =I11 -> 918007 | J28: =J11 -> 1162998 | K28: =K11 -> 373826
D29: dział V | E29: =E12 -> 83314 | F29: =F12 -> 36728 | G29: =G12 -> 74752 | H29: =H12 -> 101228 | I29: =I12 -> 128886 | J29: =J12 -> 147463 | K29: =K12 -> 30767 | O29: Q2 2020
D30: dział VI | E30: =E13 -> 3488004 | F30: =F13 -> 1045532 | G30: =G13 -> 1821902 | H30: =H13 -> 2335142 | I30: =I13 -> 2195292 | J30: =J13 -> 2110364 | K30: =K13 -> 446953
T32: Q1 2021
T33: 237476
T34: 18160
T35: 1115
T36: 20202
T37: 11594
T38: 106807

Sheet podsumowanie
B1: LICZBA KLIENTÓW
B2: 2019 | C2: 2020 | D2: 2021
A3: OT | B3: =SUM('4. Podróżni OT'!G8:G13) -> 4530426 | C3: =SUM('4. Podróżni OT'!H8:H13) -> 6540519 | D3: =SUM('4. Podróżni OT'!I8:I13) -> 7840503
A4: korekta | B4: =SUM('4. Podróżni OT'!G14:G19) -> 458647 | C4: =SUM('4. Podróżni OT'!H14:H19) -> 239780 | D4: =SUM('4. Podróżni OT'!I14:I19) -> 273557
A5: razem | B5: =B3-B4 -> 4071779 | C5: =C3-C4 -> 6300739 | D5: =D3-D4 -> 7566946
A6: z zawartych | B6: =B3/1000000 -> 4.530426 | C6: =C3/1000000 -> 6.540519 | D6: =D3/1000000 -> 7.840503 | E6: z zawartych
A7: tych co wyjechali | B7: =B5/1000000 -> 4.071779 | C7: =C5/1000000 -> 6.300739 | D7: =D5/1000000 -> 7.566946 | E7: tych co wyjechali
A9: zmiana | B9: 19/18 | C9: 20/19 | D9: 21/20
A10: z zawartych | C10: =C3/B3-1 -> 0.44368741 | D10: =D3/C3-1 -> 0.19875854
A11: tych co wyjechali | C11: =C5/B5-1 -> 0.54741674 | D11: =D5/C5-1 -> 0.20096166
D12: 21/19
A13: z zawartych | D13: =D3/B3-1 -> 0.73063262
A14: tych co wyjechali | D14: =D5/B5-1 -> 0.85838819
B15: LICZBA umów (zawarte-korekty)
B16: 2019 | C16: 2020 | D16: 2021
A17: OT | B17: =SUM('3. Umowy OT'!E8:E13) -> 2713315 | C17: =SUM('3. Umowy OT'!G8:H13) -> 3979958 | D17: =SUM('3. Umowy OT'!I8:I13) -> 2715719
A18: korekta | B18: =SUM('3. Umowy OT'!E14:E19) -> 116100 | C18: =SUM('3. Umowy OT'!G14:H19) -> 289214 | D18: =SUM('3. Umowy OT'!I14:I19) -> 120325
A19: razem | B19: =B17-B18 -> 2597215 | C19: =C17-C18 -> 3690744 | D19: =D17-D18 -> 2595394
A20: z zawartych | B20: =B17/1000000 -> 2.713315 | C20: =C17/1000000 -> 3.979958 | D20: =D17/1000000 -> 2.715719
A21: tych co wyjechali | B21: =B19/1000000 -> 2.597215 | C21: =C19/1000000 -> 3.690744 | D21: =D19/1000000 -> 2.595394
A23: zmiana | B23: 19/18 | C23: 20/19 | D23: 21/20
A24: z zawartych | C24: =C17/B17-1 -> 0.4668249 | D24: =D17/C17-1 -> -0.31765134
A25: tych co wyjechali | C25: =C19/B19-1 -> 0.42103907 | D25: =D19/C19-1 -> -0.29678298
D26: 21/19
A27: z zawartych | D27: =D17/B17-1 -> 0.00088600107
A28: tych co wyjechali | D28: =D19/B19-1 -> -0.00070113564
D29: OT | T29: LICZBA KLIENTÓW
D30: Q3 2018 | E30: Q4 2018 | F30: Q1 2019 | G30: Q2 2019 | H30: Q3 2019 | I30: Q4 2019 | J30: Q1 2020 | K30: Q2 2020 | L30: Q3 2020 | M30: Q4 2020 | N30: Q1 2021 | O30: Q2 2021 | P30: Q3 2021 | Q30: Q4 2021 | T30: 2018 | U30: 2019 | V30: 2020 | W30: 2021 | X30: 2019 | Y30: 2020 | Z30: 2021
B31: Przekazane | C31: dział I | D31: 1067957 | E31: 621369 | F31: 781061 | G31: 762774 | H31: 1125525 | I31: 641010 | J31: 575733 | K31: 186317 | L31: 479680 | M31: 118622 | N31: 228216 | O31: 715655 | P31: 833412 | Q31: 432274 | S31: dział I | U31: =SUM(F31:I31)-SUM(F37:I37) -> 3157688 | V31: =SUM(J31:M31)-SUM(J37:M37) -> 271283 | W31: =SUM(N31:Q31)-SUM(N37:Q37) -> 1890023 | X31: =U31/$U$37 -> 0.40999739 | Y31: =V31/$V$37 -> 0.25264206 | Z31: =W31/$W$37 -> 0.4792184
C32: dział II | D32: 41954 | E32: 56672 | F32: 73408 | G32: 52539 | H32: 61288 | I32: 74458 | J32: 54842 | K32: 6822 | L32: 11580 | M32: 9354 | N32: 17333 | O32: 28725 | P32: 35711 | Q32: 43077 | S32: dział II | U32: =SUM(F32:I32)-SUM(F38:I38) -> 244322 | V32: =SUM(J32:M32)-SUM(J38:M38) -> 10412 | W32: =SUM(N32:Q32)-SUM(N38:Q38) -> 96377 | X32: =U32/$U$37 -> 0.031723015 | Y32: =V32/$V$37 -> 0.0096965498 | Z32: =W32/$W$37 -> 0.024436545
C33: dział III | D33: 2212 | E33: 2468 | F33: 2888 | G33: 2223 | H33: 3414 | I33: 2979 | J33: 1869 | K33: 311 | L33: 505 | M33: 803 | N33: 1205 | O33: 1191 | P33: 1384 | Q33: 1861 | S33: dział III | U33: =SUM(F33:I33)-SUM(F39:I39) -> 11088 | V33: =SUM(J33:M33)-SUM(J39:M39) -> 1958 | W33: =SUM(N33:Q33)-SUM(N39:Q39) -> 4903 | X33: =U33/$U$37 -> 0.0014396771 | Y33: =V33/$V$37 -> 0.001823458 | Z33: =W33/$W$37 -> 0.0012431636
C34: dział IV | D34: 178315 | E34: 184433 | F34: 258436 | G34: 217404 | H34: 192319 | I34: 201960 | J34: 160273 | K34: 14900 | L34: 50132 | M34: 18059 | N34: 20595 | O34: 73028 | P34: 122342 | Q34: 64348 | S34: dział IV | U34: =SUM(F34:I34)-SUM(F40:I40) -> 815027 | V34: =SUM(J34:M34)-SUM(J40:M40) -> 42583 | W34: =SUM(N34:Q34)-SUM(N40:Q40) -> 229084 | X34: =U34/$U$37 -> 0.10582393 | Y34: =V34/$V$37 -> 0.039656951 | Z34: =W34/$W$37 -> 0.05808462
C35: dział V | D35: 15380 | E35: 23840 | F35: 20168 | G35: 10220 | H35: 21426 | I35: 28133 | J35: 15665 | K35: 1713 | L35: 10815 | M35: 6980 | N35: 12610 | O35: 9413 | P35: 20952 | Q35: 25810 | S35: dział V | U35: =SUM(F35:I35)-SUM(F41:I41) -> 78066 | V35: =SUM(J35:M35)-SUM(J41:M41) -> 19622 | W35: =SUM(N35:Q35)-SUM(N41:Q41) -> 59077 | X35: =U35/$U$37 -> 0.010136168 | Y35: =V35/$V$37 -> 0.018273694 | Z35: =W35/$W$37 -> 0.014979069
C36: dział VI | D36: 786326 | E36: 782721 | F36: 853336 | G36: 1098702 | H36: 771199 | I36: 727951 | J36: 540308 | K36: 110853 | L36: 304451 | M36: 76871 | N36: 119437 | O36: 361821 | P36: 872021 | Q36: 356192 | S36: dział VI | U36: =SUM(F36:I36)-SUM(F42:I42) -> 3395536 | V36: =SUM(J36:M36)-SUM(J42:M42) -> 727926 | W36: =SUM(N36:Q36)-SUM(N42:Q42) -> 1664506 | X36: =U36/$U$37 -> 0.44087982 | Y36: =V36/$V$37 -> 0.67790729 | Z36: =W36/$W$37 -> 0.4220382
B37: Korekta | C37: dział I | D37: 31385 | E37: 23581 | F37: 37587 | G37: 54672 | H37: 32092 | I37: 28331 | J37: 167384 | K37: 585887 | L37: 289530 | M37: 46268 | N37: 70750 | O37: 156566 | P37: 70624 | Q37: 21594 | U37: =SUM(U31:U36) -> 7701727 | V37: =SUM(V31:V36) -> 1073784 | W37: =SUM(W31:W36) -> 3943970
C38: dział II | D38: 2949 | E38: 3353 | F38: 4078 | G38: 4125 | H38: 4480 | I38: 4688 | J38: 20730 | K38: 23811 | L38: 19948 | M38: 7697 | N38: 7025 | O38: 8480 | P38: 6815 | Q38: 6149 | U38: =U37=B5 -> FALSE | V38: =V37=C5 -> FALSE | W38: =W37=D5 -> FALSE
C39: dział III | D39: 25 | E39: 67 | F39: 65 | G39: 89 | H39: 90 | I39: 172 | J39: 434 | K39: 341 | L39: 510 | M39: 245 | N39: 213 | O39: 122 | P39: 165 | Q39: 238
C40: dział IV | D40: 12113 | E40: 5137 | F40: 13045 | G40: 20451 | H40: 16293 | I40: 5303 | J40: 57588 | K40: 72054 | L40: 44702 | M40: 26437 | N40: 14626 | O40: 18540 | P40: 12854 | Q40: 5209
C41: dział V | D41: 184 | E41: 604 | F41: 484 | G41: 207 | H41: 430 | I41: 760 | J41: 6917 | K41: 2393 | L41: 2319 | M41: 3922 | N41: 6501 | O41: 1555 | P41: 606 | Q41: 1046
C42: dział VI | D42: 13913 | E42: 10655 | F42: 11351 | G42: 20354 | H42: 14048 | I42: 9899 | J42: 59812 | K42: 165153 | L42: 49437 | M42: 30155 | N42: 10232 | O42: 16526 | P42: 12763 | Q42: 5444 | T42: LICZBA KLIENTÓW
T43: 2018 | U43: 2019 | V43: 2020 | W43: 2021 | X43: 2019 | Y43: 2020 | Z43: 2021
S44: dział I | U44: =U31/1000000 -> 3.157688 | V44: =V31/1000000 -> 0.271283 | W44: =W31/1000000 -> 1.890023 | X44: =U44/$U$50 -> 0.40999739 | Y44: =V44/$V$50 -> 0.25264206 | Z44: =W44/$W$50 -> 0.4792184
S45: dział II | U45: =U32/1000000 -> 0.244322 | V45: =V32/1000000 -> 0.010412 | W45: =W32/1000000 -> 0.096377 | X45: =U45/$U$50 -> 0.031723015 | Y45: =V45/$V$50 -> 0.0096965498 | Z45: =W45/$W$50 -> 0.024436545
S46: dział III | U46: =U33/1000000 -> 0.011088 | V46: =V33/1000000 -> 0.001958 | W46: =W33/1000000 -> 0.004903 | X46: =U46/$U$50 -> 0.0014396771 | Y46: =V46/$V$50 -> 0.001823458 | Z46: =W46/$W$50 -> 0.0012431636
B47: Tabela 5.1. Łączna liczba umów w podziale na miesiące | S47: dział IV | U47: =U34/1000000 -> 0.815027 | V47: =V34/1000000 -> 0.042583 | W47: =W34/1000000 -> 0.229084 | X47: =U47/$U$50 -> 0.10582393 | Y47: =V47/$V$50 -> 0.039656951 | Z47: =W47/$W$50 -> 0.05808462
S48: dział V | U48: =U35/1000000 -> 0.078066 | V48: =V35/1000000 -> 0.019622 | W48: =W35/1000000 -> 0.059077 | X48: =U48/$U$50 -> 0.010136168 | Y48: =V48/$V$50 -> 0.018273694 | Z48: =W48/$W$50 -> 0.014979069
C49: Styczeń | D49: Luty | E49: Marzec | F49: Kwiecień | G49: Maj | H49: Czerwiec | I49: Lipiec | J49: Sierpień | K49: Wrzesień | L49: Październik | M49: Listopad | N49: Grudzień | S49: dział VI | U49: =U36/1000000 -> 3.395536 | V49: =V36/1000000 -> 0.727926 | W49: =W36/1000000 -> 1.664506 | X49: =U49/$U$50 -> 0.44087982 | Y49: =V49/$V$50 -> 0.67790729 | Z49: =W49/$W$50 -> 0.4220382
U50: =SUM(U44:U49) -> 7.701727 | V50: =SUM(V44:V49) -> 1.073784 | W50: =SUM(W44:W49) -> 3.94397
B51: 2017 | C51: 156414 | D51: 166801 | E51: 200825 | F51: 176969 | G51: 215207 | H51: 246247 | I51: 274829 | J51: 250778 | K51: 193140 | L51: 197324 | M51: 177675 | N51: 157960
B52: 2018 | C52: 237927 | D52: 205992 | E52: 225966 | F52: 242951 | G52: 251498 | H52: 274253 | I52: 286581 | J52: 257698 | K52: 216933 | L52: 183664 | M52: 163618 | N52: 153388
B53: 2019 | C53: 229442 | D53: 206834 | E53: 226253 | F53: 199836 | G53: 275576 | H53: 253999 | I53: 301966 | J53: 253965 | K53: 241776 | L53: 193841 | M53: 173384 | N53: 159331
B54: 2020 | C54: 250679 | D54: 185927 | E54: 50700 | F54: 9936 | G54: 33930 | H54: 94331 | I54: 144403 | J54: 110030 | K54: 88000 | L54: 36134 | M54: 23145 | N54: 35708 | T54: 2018 | U54: 2019 | V54: 2020 | W54: 2021 | X54: 2019 | Y54: 2020 | Z54: 2021
B55: 2021 | C55: 50013 | D55: 70799 | E55: 77885 | F55: 84399 | G55: 173550 | H55: 236861 | I55: 263282 | J55: 270727 | K55: 168923 | L55: 121113 | M55: 92653 | N55: 70435 | S55: dział I | U55: 3.157688 | V55: 0.271283 | W55: 1.890023 | X55: =U55/$U$50 -> 0.40999739 | Y55: =V55/$V$50 -> 0.25264206 | Z55: =W55/$W$50 -> 0.4792184
S56: dział VI | U56: 3.395536 | V56: 0.727926 | W56: 1.664506 | X56: =U56/$U$50 -> 0.44087982 | Y56: =V56/$V$50 -> 0.67790729 | Z56: =W56/$W$50 -> 0.4220382
S57: dział IV | U57: 0.815027 | V57: 0.042583 | W57: 0.229084 | X57: =U57/$U$50 -> 0.10582393 | Y57: =V57/$V$50 -> 0.039656951 | Z57: =W57/$W$50 -> 0.05808462
S58: dział II | U58: 0.244322 | V58: 0.010412 | W58: 0.096377 | X58: =U58/$U$50 -> 0.031723015 | Y58: =V58/$V$50 -> 0.0096965498 | Z58: =W58/$W$50 -> 0.024436545
S59: dział V | U59: 0.078066 | V59: 0.019622 | W59: 0.059077 | X59: =U59/$U$50 -> 0.010136168 | Y59: =V59/$V$50 -> 0.018273694 | Z59: =W59/$W$50 -> 0.014979069
S60: dział III | U60: 0.011088 | V60: 0.001958 | W60: 0.004903 | X60: =U60/$U$50 -> 0.0014396771 | Y60: =V60/$V$50 -> 0.001823458 | Z60: =W60/$W$50 -> 0.0012431636
U61: =SUM(U55:U60) -> 7.701727 | V61: =SUM(V55:V60) -> 1.073784 | W61: =SUM(W55:W60) -> 3.94397 | X61: =U61/$U$50 -> 1 | Y61: =V61/$V$50 -> 1 | Z61: =W61/$W$50 -> 1
U63: =SUM(U57:U60) -> 1.148503 | W63: =SUM(W57:W60) -> 0.389441
U64: =U63/U61 -> 0.14912279 | W64: =W63/W61 -> 0.098743398

Sheet 5. Umowy PUNPUT
B2: Powrót do spisu treści
C4: Tabela 5.1. Liczba umów PUNPUT w podziale na działy, lata oraz przekazane i korekta
E6: 2019 | F6: 2020 | G6: 2021 | H6: 2022 | I6: 2023 | J6: 2024 | K6: 2025 Q1
J7: Q1 | K7: Q1
C8: Przekazane | D8: dział I | E8: 4508 | F8: 1497 | G8: 1298 | H8: 2904 | I8: 3418 | J8: 2405 | K8: 1317
D9: dział II | E9: 35 | F9: 5 | G9: 10 | H9: 194 | I9: 295 | J9: 158 | K9: 42
D10: dział III | E10: 8982 | F10: 3595 | G10: 2860 | H10: 4876 | I10: 5306 | J10: 4152 | K10: 1463
D11: dział IV | E11: 425 | F11: 285 | G11: 235 | H11: 530 | I11: 1881 | J11: 1358 | K11: 449
D12: dział V | E12: 4350 | F12: 1795 | G12: 3154 | H12: 9158 | I12: 15597 | J12: 3609 | K12: 1002
C13: Korekta | D13: dział I | E13: 60 | F13: 231 | G13: 164 | H13: 223 | I13: 224 | J13: 211 | K13: 62
D14: dział II | E14: 0 | F14: 0 | G14: 0 | H14: 1 | I14: 2 | J14: 0 | K14: 0
D15: dział III | E15: 113 | F15: 771 | G15: 477 | H15: 363 | I15: 366 | J15: 395 | K15: 71
D16: dział IV | E16: 1 | F16: 30 | G16: 0 | H16: 4 | I16: 7 | J16: 1 | K16: 2
D17: dział V | E17: 130 | F17: 272 | G17: 337 | H17: 513 | I17: 156 | J17: 271 | K17: 13
C20: Rysunek 5.1. Liczba umów PUNPUT w podziale na działy i lata
E22: 2019 | F22: 2020 | G22: 2021 | H22: 2022 | I22: 2023 | J22: 2024 | K22: 2025
D23: dział I | E23: =E8 -> 4508 | F23: =F8 -> 1497 | G23: =G8 -> 1298 | H23: =H8 -> 2904 | I23: =I8 -> 3418 | J23: =J8 -> 2405 | K23: =K8 -> 1317
D24: dział II | E24: =E9 -> 35 | F24: =F9 -> 5 | G24: =G9 -> 10 | H24: =H9 -> 194 | I24: =I9 -> 295 | J24: =J9 -> 158 | K24: =K9 -> 42
D25: dział III | E25: =E10 -> 8982 | F25: =F10 -> 3595 | G25: =G10 -> 2860 | H25: =H10 -> 4876 | I25: =I10 -> 5306 | J25: =J10 -> 4152 | K25: =K10 -> 1463
D26: dział IV | E26: =E11 -> 425 | F26: =F11 -> 285 | G26: =G11 -> 235 | H26: =H11 -> 530 | I26: =I11 -> 1881 | J26: =J11 -> 1358 | K26: =K11 -> 449
D27: dział V | E27: =E12 -> 4350 | F27: =F12 -> 1795 | G27: =G12 -> 3154 | H27: =H12 -> 9158 | I27: =I12 -> 15597 | J27: =J12 -> 3609 | K27: =K12 -> 1002

Sheet 6. Podróżni PUNPUT
B2: Powrót do spisu treści
C4: Tabela 6.1. Liczba Podróżnych PUNPUT w podziale na działy, lata oraz przekazane i korekta
E6: 2019 | F6: 2020 | G6: 2021 | H6: 2022 | I6: 2023 | J6: 2024 | K6: 2025 Q1
J7: Q1 | K7: Q1
C8: Przekazane | D8: dział I | E8: 6237 | F8: 2541 | G8: 2225 | H8: 4406 | I8: 6487 | J8: 4694 | K8: 2686
D9: dział II | E9: 54 | F9: 13 | G9: 34 | H9: 754 | I9: 578 | J9: 893 | K9: 114
D10: dział III | E10: 17229 | F10: 6879 | G10: 5764 | H10: 8948 | I10: 10293 | J10: 7839 | K10: 2917
D11: dział IV | E11: 1160 | F11: 971 | G11: 1071 | H11: 1339 | I11: 9582 | J11: 10593 | K11: 1848
D12: dział V | E12: 15088 | F12: 4942 | G12: 11708 | H12: 30300 | I12: 52857 | J12: 20762 | K12: 3434
C13: Korekta | D13: dział I | E13: 124 | F13: 480 | G13: 292 | H13: 378 | I13: 328 | J13: 323 | K13: 98
D14: dział II | E14: 0 | F14: 0 | G14: 0 | H14: 2 | I14: 4 | J14: 0 | K14: 0
D15: dział III | E15: 227 | F15: 1756 | G15: 951 | H15: 640 | I15: 586 | J15: 634 | K15: 107
D16: dział IV | E16: 3 | F16: 38 | G16: 0 | H16: 6 | I16: 14 | J16: 1 | K16: 63
D17: dział V | E17: 503 | F17: 940 | G17: 1255 | H17: 2243 | I17: 717 | J17: 604 | K17: 21
C20: Rysunek 6.1. Liczba Podróżnych PUNPUT w podziale na działy i lata
E22: 2019 | F22: 2020 | G22: 2021 | H22: 2022 | I22: 2023 | J22: 2024 | K22: 2025
D23: dział I | E23: =E8 -> 6237 | F23: =F8 -> 2541 | G23: =G8 -> 2225 | H23: =H8 -> 4406 | I23: =I8 -> 6487 | J23: =J8 -> 4694 | K23: =K8 -> 2686
D24: dział II | E24: =E9 -> 54 | F24: =F9 -> 13 | G24: =G9 -> 34 | H24: =H9 -> 754 | I24: =I9 -> 578 | J24: =J9 -> 893 | K24: =K9 -> 114
D25: dział III | E25: =E10 -> 17229 | F25: =F10 -> 6879 | G25: =G10 -> 5764 | H25: =H10 -> 8948 | I25: =I10 -> 10293 | J25: =J10 -> 7839 | K25: =K10 -> 2917
D26: dział IV | E26: =E11 -> 1160 | F26: =F11 -> 971 | G26: =G11 -> 1071 | H26: =H11 -> 1339 | I26: =I11 -> 9582 | J26: =J11 -> 10593 | K26: =K11 -> 1848
D27: dział V | E27: =E12 -> 15088 | F27: =F12 -> 4942 | G27: =G12 -> 11708 | H27: =H12 -> 30300 | I27: =I12 -> 52857 | J27: =J12 -> 20762 | K27: =K12 -> 3434

Sheet 7. Liczba umów na miesiąc
D1: 447916 | E1: 479887 | F1: 671789 | G1: 554977 | H1: 713565 | I1: 731356 | J1: 672363 | K1: 634697 | L1: 582507 | M1: 624080 | N1: 535147
B2: Powrót do spisu treści | D2: 658637 | E2: 604364 | F2: 713107 | G2: 723949 | H2: 815203.23 | I2: 820510 | J2: 737535 | K2: 677634 | L2: 679905 | M2: 639040 | N2: 559103 | O2: 1385809 | R2: Etykiety kolumn
D3: 658024 | E3: 624416 | F3: 707323 | G3: 597294 | H3: 790250 | I3: 747218 | J3: 754610 | K3: 661267 | L3: 729255 | M3: 650967 | O3: 426707 | R3: 1 | S3: 2 | T3: 3
B4: Tabela 7.1. Łączna liczba umów w podziale na miesiące
C6: Styczeń | D6: Luty | E6: Marzec | F6: Kwiecień | G6: Maj | H6: Czerwiec | I6: Lipiec | J6: Sierpień | K6: Wrzesień | L6: Październik | M6: Listopad | N6: Grudzień
B8: 2019 | C8: 230211 | D8: 208030 | E8: 226741 | F8: 200239 | G8: 276987 | H8: 256305 | I8: 304939 | J8: 255377 | K8: 242688 | L8: 195261 | M8: 174202 | N8: 160635
B9: 2020 | C9: 251926 | D9: 188178 | E9: 51361 | F9: 9956 | G9: 34400 | H9: 97418 | I9: 147162 | J9: 110631 | K9: 87947 | L9: 36346 | M9: 23212 | N9: 35834
B10: 2021 | C10: 50244 | D10: 71497 | E10: 78815 | F10: 85636 | G10: 175258 | H10: 241457 | I10: 269162 | J10: 276141 | K10: 173653 | L10: 124804 | M10: 96447 | N10: 81209
B11: 2022 | C11: 155431 | D11: 162970 | E11: 133966 | F11: 177370 | G11: 267083 | H11: 270627 | I11: 263086 | J11: 253596 | K11: 197725 | L11: 142297 | M11: 130818 | N11: 125885
B12: 2023 | C12: 261272 | D12: 218242 | E12: 268188 | F12: 210257 | G12: 243004 | H12: 269763 | I12: 285686 | J12: 268868 | K12: 229126 | L12: 168654 | M12: 165585 | N12: 153571
B13: 2024 | C13: 309596 | D13: 282800 | E13: 254002 | F13: 253248 | G13: 262704 | H13: 300142 | I13: 333329 | J13: 294088 | K13: 263214 | L13: 225541 | M13: 200754 | N13: 190189
B14: 2025 | C14: 346574 | D14: 271574 | E14: 278181
B17: Rysunek 7.1. Średnia liczba podróżnych przypadająca na jedną umowę w podziale na miesiące | N17: Rysunek 7.2. Łączna liczba umów w podziale na miesiące
B25: Styczeń | C25: Luty | D25: Marzec | E25: Kwiecień | F25: Maj | G25: Czerwiec | H25: Lipiec | I25: Sierpień | J25: Wrzesień | K25: Październik | L25: Listopad | M25: Grudzień
A26: 2019 | B26: =C8 -> 230211 | C26: =D8 -> 208030 | D26: =E8 -> 226741 | E26: =F8 -> 200239 | F26: =G8 -> 276987 | G26: =H8 -> 256305 | H26: =I8 -> 304939 | I26: =J8 -> 255377 | ... M26: =N8 -> 160635
A27: 2020 | B27: =C9 -> 251926 | C27: =D9 -> 188178 | D27: =E9 -> 51361 | E27: =F9 -> 9956 | F27: =G9 -> 34400 | G27: =H9 -> 97418 | H27: =I9 -> 147162 | I27: =J9 -> 110631 | ... M27: =N9 -> 35834
A28: 2021 | B28: =C10 -> 50244 | C28: =D10 -> 71497 | D28: =E10 -> 78815 | E28: =F10 -> 85636 | F28: =G10 -> 175258 | G28: =H10 -> 241457 | H28: =I10 -> 269162 | I28: =J10 -> 276141 | ... M28: =N10 -> 81209
A29: 2022 | B29: =C11 -> 155431 | C29: =D11 -> 162970 | D29: =E11 -> 133966 | E29: =F11 -> 177370 | F29: =G11 -> 267083 | G29: =H11 -> 270627 | H29: =I11 -> 263086 | I29: =J11 -> 253596 | ... M29: =N11 -> 125885
A30: 2023 | B30: =C12 -> 261272 | C30: =D12 -> 218242 | D30: =E12 -> 268188 | E30: =F12 -> 210257 | F30: =G12 -> 243004 | G30: =H12 -> 269763 | H30: =I12 -> 285686 | I30: =J12 -> 268868 | ... M30: =N12 -> 153571
A31: 2024 | B31: =C13 -> 309596 | C31: =D13 -> 282800 | D31: =E13 -> 254002 | E31: =F13 -> 253248 | F31: =G13 -> 262704 | G31: =H13 -> 300142 | H31: =I13 -> 333329 | I31: =J13 -> 294088 | ... M31: =N13 -> 190189
A32: 2025 | B32: =C14 -> 346574 | C32: =D14 -> 271574 | D32: =E14 -> 278181 | E32: =F14 -> 0 | F32: =G14 -> 0 | G32: =H14 -> 0 | H32: =I14 -> 0 | I32: =J14 -> 0 | ... M32: =N14 -> 0
A34: 2019 | B34: 663065 | C34: 628069 | D34: 711671 | E34: 603696 | F34: 806561 | G34: 762640 | H34: 766934 | I34: 679210 | J34: 750453 | K34: 674411 | L34: 547474 | M34: 476496
A35: 2020 | B35: 686147 | C35: 537658 | D35: 136355 | E35: 22549 | F35: 88522 | G35: 215583 | H35: 351887 | I35: 276927 | J35: 235677 | K35: 96620 | L35: 56653 | M35: 80531
A36: 2021 | B36: 104446 | C36: 146343 | D36: 153062 | E36: 176289 | F36: 411107 | G36: 620808 | H36: 669693 | I36: 711405 | J36: 554838 | K36: 472692 | L36: 308424 | M36: 222121
A37: 2022 | B37: 379869 | C37: 400495 | D37: 377146 | E37: 551381 | F37: 837063 | G37: 818102 | H37: 659869 | I37: 657648 | J37: 622540 | K37: 506869 | L37: 417652 | M37: 357632
A38: 2023 | B38: 683393 | C38: 585193 | D38: 770153 | E38: 619339 | F38: 781741 | G38: 822706 | H38: 740473 | I38: 712409 | J38: 698605 | K38: 562322 | L38: 504091 | M38: 439875
A39: 2024 | B39: 823867 | C39: 768687 | D39: 719363 | E39: 732032 | F39: 827359 | G39: 905014 | H39: 869596 | I39: 785232 | J39: 790342 | K39: 744687 | L39: 586418 | M39: 544605
A40: 2025 | B40: 906691 | C40: 738091 | D40: 774211
B42: Styczeń | C42: Luty | D42: Marzec | E42: Kwiecień | F42: Maj | G42: Czerwiec | H42: Lipiec | I42: Sierpień | J42: Wrzesień | K42: Październik | L42: Listopad | M42: Grudzień
A43: 2019 | B43: =B34/B26 -> 2.880249 | C43: =C34/C26 -> 3.019127 | D43: =D34/D26 -> 3.1386957 | E43: =E34/E26 -> 3.0148772 | F43: =F34/F26 -> 2.9119092 | G43: =G34/G26 -> 2.9755174 | H43: =H34/H26 -> 2.5150407 | I43: =I34/I26 -> 2.6596365 | ... M43: =M34/M26 -> 2.9663274
A44: 2020 | B44: =B35/B27 -> 2.7236053 | C44: =C35/C27 -> 2.8571778 | D44: =D35/D27 -> 2.6548354 | E44: =E35/E27 -> 2.2648654 | F44: =F35/F27 -> 2.573314 | G44: =G35/G27 -> 2.2129689 | H44: =H35/H27 -> 2.391154 | I44: =I35/I27 -> 2.5031592 | ... M44: =M35/M27 -> 2.2473349
A45: 2021 | B45: =B36/B28 -> 2.0787756 | C45: =C36/C28 -> 2.0468411 | D45: =D36/D28 -> 1.9420415 | E45: =E36/E28 -> 2.0585852 | F45: =F36/F28 -> 2.3457246 | G45: =G36/G28 -> 2.5710913 | H45: =H36/H28 -> 2.4880667 | I45: =I36/I28 -> 2.5762382 | ... M45: =M36/M28 -> 2.7351771
A46: 2022 | B46: =B37/B29 -> 2.4439719 | C46: =C37/C29 -> 2.4574768 | D46: =D37/D29 -> 2.8152367 | E46: =E37/E29 -> 3.1086486 | F46: =F37/F29 -> 3.1340931 | G46: =G37/G29 -> 3.0229874 | H46: =H37/H29 -> 2.5081874 | I46: =I37/I29 -> 2.5932901 | ... M46: =M37/M29 -> 2.8409421
A47: 2023 | B47: =B38/B30 -> 2.6156381 | C47: =C38/C30 -> 2.681395 | D47: =D38/D30 -> 2.8716908 | E47: =E38/E30 -> 2.9456284 | F47: =F38/F30 -> 3.2169882 | G47: =G38/G30 -> 3.0497362 | H47: =H38/H30 -> 2.5919121 | I47: =I38/I30 -> 2.6496608 | ... M47: =M38/M30 -> 2.8643103
A48: 2024 | B48: =B39/B31 -> 2.6611035 | C48: =C39/C31 -> 2.7181294 | D48: =D39/D31 -> 2.8321155 | E48: =E39/E31 -> 2.8905737 | F48: =F39/F31 -> 3.1493963 | G48: =G39/G31 -> 3.0152861 | H48: =H39/H31 -> 2.6088219 | I48: =I39/I31 -> 2.6700579 | ... M48: =M39/M31 -> 2.8634937
A49: 2025 | B49: =B40/B32 -> 2.6161541 | C49: =C40/C32 -> 2.7178264 | D49: =D40/D32 -> 2.7831196 | E49: =E40/E32 -> #DIV/0! | F49: =F40/F32 -> #DIV/0! | G49: =G40/G32 -> #DIV/0! | H49: =H40/H32 -> #DIV/0! | I49: =I40/I32 -> #DIV/0! | ... M49: =M40/M32 -> #DIV/0!

Sheet 8. Niewypłacalności
B2: Powrót do spisu treści
B4: Tabela 8.1. Niewypłacalności w 2017 roku
B6: Lp. | C6: Nazwa Firmy | F6: Numer Ewidencyjny | I6: Wysokość zabezpieczenia finansowego | L6: Województwo | O6: Data
B8: 1. | C8: Biuro Turystyczno-Usługowe "GRO-TOUR" W. T. Piotrkiewicz Spółka jawna | F8: 8234 | I8: 28 000 EUR | L8: pomorskie | O8: lipiec 2017
B9: 2. | C9: Centrum Szkoleniowo-Konsultacyjne Logos Wiesław Scheller | F9: 4566 | I9: 7 000 EUR | L9: kujawsko-pomorskie | O9: lipiec 2017
B11: Tabela 8.2. Niewypłacalności w 2018 roku
B13: Lp. | C13: Nazwa Firmy | F13: Numer Ewidencyjny | I13: Wysokość zabezpieczenia | L13: Województwo | O13: Data
B15: 1. | C15: REJSCLUB.PL Zbigniew Kąkol | F15: 6934 | I15: 830 000 PLN | L15: pomorskie | O15: luty 2018
B16: 2. | C16: Biuro Turystyczno – Usługowe GROMADA GORZÓW Reneusz Wachol | F16: 4281 | I16: 185 459,40 PLN | L16: lubuskie | O16: kwiecień 2018
B17: 3. | C17: MARTIN Przedsiębiorstwo Turystyczne Beata Tyczyńska Paweł Tyczyński sp. j. | F17: 266 | I17: 123 639,60 PLN | L17: wielkopolskie | O17: czerwiec 2018
B18: 4. | C18: Millennium Travel International Sp. z o.o. | F18: 7334 | I18: 1 200 000 PLN | L18: dolnośląskie | O18: wrzesień 2018
B20: Tabela 8.3. Niewypłacalności w 2019 roku
B22: Lp. | C22: Nazwa Firmy | F22: Numer Ewidencyjny | I22: Wysokość zabezpieczenia finansowego | L22: Województwo | O22: Data
B24: 1. | C24: BIURO TURYSTYCZNE "MISTRAL" DANIEL WOJNICKI SPÓŁKA JAWNA | F24: 4642 | I24: 550 000 PLN | L24: śląskie | O24: luty 2019
B25: 2. | C25: BIURO TURYSTYKI "WYCIECZKA" JERZY SOCHACKI | F25: 186 | I25: 208 505 PLN | L25: łódzkie | O25: luty 2019
B26: 3. | C26: Dybowski Tomasz Przedsiębiorstwo Handlowo Usługowe VOYAGER, Biuro Turystyczne VOYAGER | F26: 3134 | I26: 116 762,80 PLN | L26: kujawsko-pomorskie | O26: luty 2019
B27: 4. | C27: ROBERT OCHWAT OLIMP-CENTRUM PROMOCJI I LAST MINUTE | F27: 4687 | I27: 1 800 000 PLN | L27: małopolskie | O27: marzec 2019
B28: 5. | C28: BIURO PODRÓŻY "MALTUR" Andrzej Kiermasz | F28: 5653 | I28: 331 177,5 PLN | L28: pomorskie | O28: maj 2019
B29: 6. | C29: MEDITERRANEUM SPÓŁKA Z OGRANICZONĄ ODPOWIEDZIALNOŚCIĄ | F29: 1299 | I29: 1 260 000 PLN | L29: wielkopolskie | O29: lipiec 2019
B30: 7. | C30: KUCIERSKI ŁUKASZ "STEJA TRAVEL" | F30: 4439 | I30: 911 939,20 PLN | L30: śląskie | O30: lipiec 2019
B31: 8. | C31: KAMA TOURS Sławomir Dziewulski | F31: 22710 | I31: 215 080 PLN | L31: lubelskie | O31: lipiec 2019
B32: 9. | C32: NECKERMANN POLSKA BIURO PODRÓŻY SPÓŁKA Z OGRANICZONĄ ODPOWIEDZIALNOŚCIĄ | F32: 617 | I32: 25 000 000 PLN | L32: mazowieckie | O32: wrzesień 2019
B33: 10. | C33: BIURO PODRÓŻY JADENAWYCIECZKE.PL ALEKSANDRA OBRĘBSKA | F33: 24547 | I33: 215 080 PLN | L33: łódzkie | O33: październik 2019
B34: 11. | C34: BIURO PODRÓŻY AKTIV TOURS REISEN SPÓŁKA Z OGRANICZONĄ ODPOWIEDZIALNOŚCIĄ | F34: 5783 | I34: 405 000 PLN | L34: pomorskie | O34: grudzień 2019
B36: Tabela 8.4. Niewypłacalności w 2020 roku
B38: Lp. | C38: Nazwa Firmy | F38: Numer Ewidencyjny | I38: Wysokość zabezpieczenia finansowego | L38: Województwo | O38: Data
B40: 1. | C40: TOURASIA POLSKA SPÓŁKA AKCYJNA | F40: 10570 | I40: 607 800 PLN | L40: mazowieckie | O40: kwiecień 2020
B41: 2. | C41: AKTYWNI + LESZEK KOBYŁECKI | F41: 10089 | I41: 32 262 PLN | L41: mazowieckie | O41: czerwiec 2020
B42: 3. | C42: BIURO PODRÓŻY CELTUR KATARZYNA UMŻYŃSKA | F42: 3707 | I42: 120 444,8 PLN | L42: kujawsko-pomorskie | O42: czerwiec 2020
B43: 4. | C43: Biuro Podróży RUTA TOUR s.c. Zuzanna Zygmunt Tomasz Ruta | F43: 173 | I43: 215 080 PLN | L43: wielkopolskie | O43: lipiec 2020
B44: 5. | C44: Biuro Turystyczne Ka-Ma Katarzyna Stein | F44: 9080 | I44: 180 667 PLN | L44: śląskie | O44: sierpień 2020
B45: 6. | C45: PRESTIGE TRAVEL Joanna Dołmatow | F45: 9028 | I45: 19 357 PLN | L45: podlaskie | O45: wrzesień 2020
B46: 7. | C46: Biuro Podróży HERMES TRAVEL Zawada Katarzyna Monika | F46: 9236 | I46: 350 000 PLN | L46: mazowieckie | O46: listopad 2020
B47: 8. | C47: Aleksandra Zakroczymska AGENCJA TURYSTYCZNA TRAF II | F47: 6744 | I47: 19 157 PLN | L47: śląskie | O47: listopad 2020
B49: Tabela 8.5. Niewypłacalności w 2021 roku
B51: Lp. | C51: Nazwa Firmy | F51: Numer Ewidencyjny | I51: Wysokość zabezpieczenia finansowego | L51: Województwo | O51: Data
B53: 1. | C53: BAJA TEAM Jarosław Lewiński | F53: 7796 | I53: 322 620 PLN | L53: kujawsko-pomorskie | O53: styczeń 2021
B54: 2. | C54: Grupa TUR-MEDIA sp. z o.o. | F54: 21604 | I54: 32 262 PLN | L54: świętokrzyskie | O54: maj 2021
B55: 3. | C55: Mouzenidis Travel sp. z o.o. | F55: 7933 | I55: 840 000 PLN | L55: mazowieckie | O55: wrzesień 2021
B56: 4. | C56: Przedsiębiorstwo Turystyczno Handlowe "Janter" sp. z o.o. | F56: 3718 | I56: 280 000 PLN | L56: mazowieckie | O56: październik 2021
B57: 5. | C57: Fundacja Harcerstwa Centrum Wychowania Morskiego ZHP | F57: 11432 | I57: 191 037 PLN | L57: pomorskie | O57: październik 2021
B58: 6. | C58: Biuro Podróży "Mistral" sp. z o.o. | F58: 21241 | I58: 375 309 PLN | L58: śląskie | O58: listopad 2021
B59: 7. | C59: Biuro Podróży Gold Tour sp. z o.o. | F59: 9298 | I59: 810 000 PLN | L59: opolskie | O59: grudzień 2021
B60: 8. | C60: DAPIK Sp. z o.o. | F60: 11047 | I60: 48 000 PLN | L60: mazowieckie | O60: grudzień 2021
B63: Tabela 8.6. Niewypłacalności w 2022 roku
B65: Lp. | C65: Nazwa Firmy | F65: Numer Ewidencyjny | I65: Wysokość zabezpieczenia finansowego | L65: Województwo | O65: Data
B67: 1. | C67: INTER BLOCK LTD sp. z o.o. | F67: 10574 | I67: 119 198 PLN | L67: mazowieckie | O67: styczeń 2022
B68: 2. | C68: SILESIAADDICT SPÓŁKA Z OGRANICZONĄ ODPOWIEDZIALNOŚCIĄ | F68: 10249 | I68: 119 198 PLN | L68: śląskie | O68: wrzesień 2022
B71: Tabela 8.7. Niewypłacalności w 2024 roku
B73: Lp. | C73: Nazwa Firmy | F73: Numer Ewidencyjny | I73: Wysokość zabezpieczenia finansowego | L73: Województwo | O73: Data
B75: 1. | C75: Stajnia Nad Morzem PAULA STANGRECIAK | F75: 38558 | I75: 17 544 PLN | L75: pomorskie | O75: kwiecień 2024
B76: 2. | C76: WAKACJE NA CYPRZE MARIUSZ MATUSZCZAK | F76: 10302 | I76: 421 056 PLN | L76: łódzkie | O76: czerwiec 2024
B77: 3. | C77: TAMADA TOUR SPÓŁKA Z OGRANICZONĄ ODPOWIEDZIALNOŚCIĄ | F77: 11070 | I77: 500 000 PLN | L77: mazowieckie | O77: listopad 2024
