Workbook

Sheet Strona tytułowa
D4: BIULETYN INFORMACYJNY TURYSTYCZNY FUNDUSZ GWARANCYJNY I kwartał 2023 r.

Sheet Spis treści
B3: SPIS TREŚCI
B7: Nota metodyczna
B8: 1. Liczba deklaracji
B9: 2. Dane ogólne
B10: 3. Umowy OT
B11: 4. Podróżni OT
B12: 5. Umowy PUNPUT
B13: 6. Podróżni PUNPUT
B14: 7. Liczba umów w podziale na miesiące
B15: 8. Niewypłacalności

Sheet Nota metodyczna
B2: Powrót do spisu treści
B4: Nota metodyczna
B6: 1. Przedstawione zestawienie przygotowane zostało na podstawie danych zawartych w bazie danych Turystycznego Funduszu Gwarancyjnego. Turystyczny Fundusz Gwarancyjny działa na mocy ustawy z dnia 24 listopada 2017 r. o imprezach turystycznych i powiązanych usługach turystycznych (Dz. U. z 2017 r. poz. 2361 z późn. zm.). Turystyczny Fundusz Gwarancyjny gromadzi dane dotyczące liczby i rodzaju zawartych w danym miesiącu umów o udział w imprezie turystycznej oraz umów z przedsiębiorcą ułatwiającym nabywanie powiązanych usług turystycznych oraz liczby podróżnych objętych tymi umowami. Dodatkowo gromadzone są informacje na temat liczby umów i liczby podróżnych, których imprezy turystyczne zostały odwołane przez organizatora turystyki z powodu niewystarczającej liczby zgłoszeń, jeżeli realizacja imprezy turystycznej była uzależniona od liczby zgłoszeń, podróżnych, którzy rozwiązali umowę o udział w imprezie turystycznej lub umowę zawartą z przedsiębiorcą ułatwiającym nabywanie powiązanych usług turystycznych lub odstąpili od takiej umowy, a także podróżnych, których umowy zostały zmienione w sposób umożliwiający zarachowanie odprowadzonej składki.
B7: 2. Dane gromadzone są w bazie Turystycznego Funduszu Gwarancyjnego od 01.12.2016 r.
B8: 3. Niniejszy biuletyn przedstawia stan bazy danych TFG aktualny na dzień przygotowania biuletynu. Zawarte w biuletynie informacje mogą różnić się w kolejnych wydaniach biuletynu ze względu na ciągły proces uzupełniania deklaracji przez przedziębiorców turystycznych i poprawiania deklaracji będący efektem kontroli przeprowadzanych przez Marszałków Województw.
B9: 4. Przedstawione zestawienia przygotowane zostały według stanu bazy na dzień 25.05.2023 r.
B10: 5. Użyte pojęcia oznaczają:
B12: Od 1 lipca 2018 r. obowiązuje następujące rozróżnienie działalności wykonywanej przez przedsiębiorców turystycznych:
B13: -- OT - Organizator Turystyki
B14: -- Dział I OT - Terytorium państw europejskich i pozaeuropejskich z wykorzystaniem transportu lotniczego w ramach przewozu czarterowego, z wyłączeniem pkt 6
B15: -- Dział II OT - Terytorium państw pozaeuropejskich z wykorzystaniem innego środka transportu niż transport lotniczy w ramach przewozu czarterowego
B16: -- Dział III OT - Terytorium państw pozaeuropejskich, jeżeli nie jest realizowana usługa transportowa
... B31: z

Sheet 1. Liczba deklaracji
B2: Powrót do spisu treści
B4: Tabela 1.1. Liczba deklaracji złożonych za poszczególne kwartały
C6: Q1 | D6: Q2 | E6: Q3 | F6: Q4
B8: 2019 | C8: 12429 | D8: 12713 | E8: 12777 | F8: 12632
B9: 2020 | C9: 12580 | D9: 11868 | E9: 11794 | F9: 11324
B10: 2021 | C10: 10927 | D10: 11142 | E10: 11659 | F10: 11584
B11: 2022 | C11: 11631 | D11: 12012 | E11: 12182 | F11: 12167
B12: 2023 | C12: 12128
B14: Rysunek 1.1. Liczba deklaracji złożonych za poszczególne kwartały
B15: Trend 2019 | C15: 1 | D15: =D8/C8 -> 1.0228498 | E15: =E8/D8 -> 1.0050342 | F15: =F8/E8 -> 0.98865148
B16: Trend 2020 | C16: 1 | D16: =D9/C9 -> 0.94340223 | E16: =E9/D9 -> 0.99376475 | F16: =F9/E9 -> 0.96014923
B17: Trend 2021 | C17: 1 | D17: =D10/C10 -> 1.019676 | E17: =E10/D10 -> 1.046401 | F17: =F10/E10 -> 0.9935672
B18: Trend 2022 | C18: 1 | D18: =D11/C11 -> 1.0327573 | E18: =E11/D11 -> 1.0141525 | F18: =F11/E11 -> 0.99876868
I21: Q1 2017 | J21: Q2 2017 | K21: Q3 2017 | L21: Q4 2017
I22: 10981 | J22: 11174 | K22: 11123 | L22: 10900
J23: =CONCATENATE(J21,"/",I21) -> Q2 2017/Q1 2017 | K23: =CONCATENATE(K21,"/",J21) -> Q3 2017/Q2 2017 | L23: =CONCATENATE(L21,"/",K21) -> Q4 2017/Q3 2017
I24: 1 | J24: =J22/I22 -> 1.0175758 | K24: =K22/J22 -> 0.99543583 | L24: =L22/K22 -> 0.97995145
I25: =I22/4*3 -> 8235.75 | J25: =J22/4*3 -> 8380.5 | K25: =K22/4*3 -> 8342.25 | L25: =L22/4*3 -> 8175

Sheet 2. Dane ogólne
B2: Powrót do spisu treści
B4: Tabela 2.1. Liczba umów i podróżnych OT | L4: Tabela 2.2. Liczba umów i podróżnych PUNPUT
C7: 2019 | D7: 2020 | E7: 2021 | F7: 2022 | G7: 2023 | M7: 2019 | N7: 2020 | O7: 2021 | P7: 2022 | Q7: 2023
G8: Q1 | Q8: Q1
B9: Umowy | C9: 2596005 | D9: 512298 | E9: 1535985 | F9: 2152862 | G9: 700070 | L9: Umowy | M9: 17996 | N9: 5873 | O9: 6579 | P9: 16445 | Q9: 15909
B10: Podróżni | C10: 7742692 | D10: 1085139 | E10: 4070379 | F10: 6301091 | G10: 1913057 | L10: Podróżni | M10: 38911 | N10: 12132 | O10: 18304 | P10: 41887 | Q10: 45765
B13: Rysunek 2.1. Liczba umów i podróżnych OT w podziale na lata | L13: Rysunek 2.2. Liczba umów i podróżnych PUNPUT w podziale na lata
C18: 2019 | D18: 2020 | E18: 2021 | F18: 2022 | G18: 2023 | M18: 2019 | N18: 2020 | O18: 2021 | P18: 2022 | Q18: 2023
B19: Umowy | C19: 2596005 | D19: 512298 | E19: 1535985 | F19: 2152862 | G19: 700070 | L19: Umowy | M19: 17996 | N19: 5873 | O19: 6579 | P19: 16445 | Q19: 15909
B20: Podróżni | C20: 7742692 | D20: 1085139 | E20: 4070379 | F20: 6301091 | G20: 1913057 | L20: Podróżni | M20: 38911 | N20: 12132 | O20: 18304 | P20: 41887 | Q20: 45765

Sheet 3. Umowy OT
B2: Powrót do spisu treści
C4: Tabela 3.1. Liczba umów OT od 2019 roku w podziale na działy, lata oraz przekazane i korekta
E5: 2019 | F5: 2020 | G5: 2021 | H5: 2022 | I5: 2023
I6: Q1
C7: Przekazane | D7: dział I | E7: 1231990 | F7: 505602 | G7: 851678 | H7: 1195919 | I7: 373021
D8: dział II | E8: 114827 | F8: 35703 | G8: 56148 | H8: 110021 | I8: 43935
D9: dział III | E9: 6264 | F9: 2039 | G9: 3448 | H9: 7451 | I9: 2554
D10: dział IV | E10: 330959 | F10: 106423 | G10: 135982 | H10: 271721 | I10: 117918
D11: dział V | E11: 29678 | F11: 14752 | G11: 31105 | H11: 39956 | I11: 11508
D12: dział VI | E12: 998122 | F12: 405352 | G12: 637703 | H12: 637506 | I12: 173808
C13: Korekta | D13: dział I | E13: 56288 | F13: 379195 | G13: 117671 | H13: 51733 | I13: 11030
D14: dział II | E14: 9477 | F14: 31867 | G14: 13434 | H14: 14693 | I14: 3092
D15: dział III | E15: 238 | F15: 904 | G15: 461 | H15: 360 | I15: 94
D16: dział IV | E16: 24411 | F16: 75055 | G16: 24097 | H16: 21125 | I16: 5319
D17: dział V | E17: 801 | F17: 5476 | G17: 4115 | H17: 1547 | I17: 299
D18: dział VI | E18: 24620 | F18: 65076 | G18: 20301 | H18: 20254 | I18: 2840
C20: Rysunek 3.1. Liczba umów OT od 2019 roku w podziale na działy i lata

Sheet 4. Podróżni OT
B2: Powrót do spisu treści
C4: Tabela 4.1. Liczba podróżnych OT od 2019 roku w podziale na działy, lata oraz przekazane i korekta
E5: 2019 | F5: 2020 | G5: 2021 | H5: 2022 | I5: 2023
I6: Q1
C7: Przekazane | D7: dział I | E7: 3310498 | F7: 1360263 | G7: 2211639 | H7: 3182054 | I7: 1032691
D8: dział II | E8: 263539 | F8: 79335 | G8: 126751 | H8: 254279 | I8: 101157
D9: dział III | E9: 11672 | F9: 3616 | G9: 6072 | H9: 12667 | I9: 4558
D10: dział IV | E10: 873440 | F10: 244329 | G10: 289278 | H10: 654687 | I10: 270970
D11: dział V | E11: 83290 | F11: 36728 | G11: 74321 | H11: 101662 | I11: 29278
D12: dział VI | E12: 3484072 | F12: 1052029 | G12: 1820962 | H12: 2336004 | I12: 523377
C13: Korekta | D13: dział I | E13: 152712 | F13: 1088951 | G13: 319806 | H13: 127452 | I13: 27523
D14: dział II | E14: 17378 | F14: 70758 | G14: 29101 | H14: 29916 | I14: 5958
D15: dział III | E15: 416 | F15: 1530 | G15: 750 | H15: 599 | I15: 146
D16: dział IV | E16: 55184 | F16: 207916 | G16: 52543 | H16: 41378 | I16: 9911
D17: dział V | E17: 2172 | F17: 16086 | G17: 10080 | H17: 4320 | I17: 824
D18: dział VI | E18: 55957 | F18: 305920 | G18: 46364 | H18: 36597 | I18: 4612
C20: Rysunek 4.1. Liczba podróżnych OT od 2019 roku w podziale na działy i lata
N28: Q2 2020
S31: Q1 2021
D32: umowy: | S32: 237476
S33: 18160
S34: 1115
S35: 20202
S36: 11594
S37: 106807

Sheet podsumowanie
B1: LICZBA KLIENTÓW
B2: 2019 | C2: 2020 | D2: 2021
A3: OT | B3: =SUM('4. Podróżni OT'!F7:F12) -> 2776300 | C3: =SUM('4. Podróżni OT'!G7:G12) -> 4529023 | D3: =SUM('4. Podróżni OT'!H7:H12) -> 6541353
A4: korekta | B4: =SUM('4. Podróżni OT'!F13:F18) -> 1691161 | C4: =SUM('4. Podróżni OT'!G13:G18) -> 458644 | D4: =SUM('4. Podróżni OT'!H13:H18) -> 240262
A5: razem | B5: =B3-B4 -> 1085139 | C5: =C3-C4 -> 4070379 | D5: =D3-D4 -> 6301091
A6: z zawartych | B6: =B3/1000000 -> 2.7763 | C6: =C3/1000000 -> 4.529023 | D6: =D3/1000000 -> 6.541353 | E6: z zawartych
A7: tych co wyjechali | B7: =B5/1000000 -> 1.085139 | C7: =C5/1000000 -> 4.070379 | D7: =D5/1000000 -> 6.301091 | E7: tych co wyjechali
A9: zmiana | B9: 19/18 | C9: 20/19 | D9: 21/20
A10: z zawartych | C10: =C3/B3-1 -> 0.63131614 | D10: =D3/C3-1 -> 0.44431879
A11: tych co wyjechali | C11: =C5/B5-1 -> 2.7510208 | D11: =D5/C5-1 -> 0.54803545
D12: 21/19
A13: z zawartych | D13: =D3/B3-1 -> 1.3561405
A14: tych co wyjechali | D14: =D5/B5-1 -> 4.8067132
B15: LICZBA umów (zawarte-korekty)
B16: 2019 | C16: 2020 | D16: 2021
A17: OT | B17: =SUM('3. Umowy OT'!E7:E12) -> 2711840 | C17: =SUM('3. Umowy OT'!F7:G12) -> 2785935 | D17: =SUM('3. Umowy OT'!H7:H12) -> 2262574
A18: korekta | B18: =SUM('3. Umowy OT'!E13:E18) -> 115835 | C18: =SUM('3. Umowy OT'!F13:G18) -> 737652 | D18: =SUM('3. Umowy OT'!H13:H18) -> 109712
A19: razem | B19: =B17-B18 -> 2596005 | C19: =C17-C18 -> 2048283 | D19: =D17-D18 -> 2152862
A20: z zawartych | B20: =B17/1000000 -> 2.71184 | C20: =C17/1000000 -> 2.785935 | D20: =D17/1000000 -> 2.262574
A21: tych co wyjechali | B21: =B19/1000000 -> 2.596005 | C21: =C19/1000000 -> 2.048283 | D21: =D19/1000000 -> 2.152862
A23: zmiana | B23: 19/18 | C23: 20/19 | D23: 21/20
A24: z zawartych | C24: =C17/B17-1 -> 0.027322777 | D24: =D17/C17-1 -> -0.1878583
A25: tych co wyjechali | C25: =C19/B19-1 -> -0.2109865 | D25: =D19/C19-1 -> 0.05105691
D26: 21/19
A27: z zawartych | D27: =D17/B17-1 -> -0.16566833
A28: tych co wyjechali | D28: =D19/B19-1 -> -0.17070191
D29: OT | T29: LICZBA KLIENTÓW
D30: Q3 2018 | E30: Q4 2018 | F30: Q1 2019 | G30: Q2 2019 | H30: Q3 2019 | I30: Q4 2019 | J30: Q1 2020 | K30: Q2 2020 | L30: Q3 2020 | M30: Q4 2020 | N30: Q1 2021 | O30: Q2 2021 | P30: Q3 2021 | Q30: Q4 2021 | T30: 2018 | U30: 2019 | V30: 2020 | W30: 2021 | X30: 2019 | Y30: 2020 | Z30: 2021
B31: Przekazane | C31: dział I | D31: 1067957 | E31: 621369 | F31: 781061 | G31: 762774 | H31: 1125525 | I31: 641010 | J31: 575733 | K31: 186317 | L31: 479680 | M31: 118622 | N31: 228216 | O31: 715655 | P31: 833412 | Q31: 432274 | S31: dział I | U31: =SUM(F31:I31)-SUM(F37:I37) -> 3157688 | V31: =SUM(J31:M31)-SUM(J37:M37) -> 271283 | W31: =SUM(N31:Q31)-SUM(N37:Q37) -> 1890023 | X31: =U31/$U$37 -> 0.40999739 | Y31: =V31/$V$37 -> 0.25264206 | Z31: =W31/$W$37 -> 0.4792184
C32: dział II | D32: 41954 | E32: 56672 | F32: 73408 | G32: 52539 | H32: 61288 | I32: 74458 | J32: 54842 | K32: 6822 | L32: 11580 | M32: 9354 | N32: 17333 | O32: 28725 | P32: 35711 | Q32: 43077 | S32: dział II | U32: =SUM(F32:I32)-SUM(F38:I38) -> 244322 | V32: =SUM(J32:M32)-SUM(J38:M38) -> 10412 | W32: =SUM(N32:Q32)-SUM(N38:Q38) -> 96377 | X32: =U32/$U$37 -> 0.031723015 | Y32: =V32/$V$37 -> 0.0096965498 | Z32: =W32/$W$37 -> 0.024436545
C33: dział III | D33: 2212 | E33: 2468 | F33: 2888 | G33: 2223 | H33: 3414 | I33: 2979 | J33: 1869 | K33: 311 | L33: 505 | M33: 803 | N33: 1205 | O33: 1191 | P33: 1384 | Q33: 1861 | S33: dział III | U33: =SUM(F33:I33)-SUM(F39:I39) -> 11088 | V33: =SUM(J33:M33)-SUM(J39:M39) -> 1958 | W33: =SUM(N33:Q33)-SUM(N39:Q39) -> 4903 | X33: =U33/$U$37 -> 0.0014396771 | Y33: =V33/$V$37 -> 0.001823458 | Z33: =W33/$W$37 -> 0.0012431636
C34: dział IV | D34: 178315 | E34: 184433 | F34: 258436 | G34: 217404 | H34: 192319 | I34: 201960 | J34: 160273 | K34: 14900 | L34: 50132 | M34: 18059 | N34: 20595 | O34: 73028 | P34: 122342 | Q34: 64348 | S34: dział IV | U34: =SUM(F34:I34)-SUM(F40:I40) -> 815027 | V34: =SUM(J34:M34)-SUM(J40:M40) -> 42583 | W34: =SUM(N34:Q34)-SUM(N40:Q40) -> 229084 | X34: =U34/$U$37 -> 0.10582393 | Y34: =V34/$V$37 -> 0.039656951 | Z34: =W34/$W$37 -> 0.05808462
C35: dział V | D35: 15380 | E35: 23840 | F35: 20168 | G35: 10220 | H35: 21426 | I35: 28133 | J35: 15665 | K35: 1713 | L35: 10815 | M35: 6980 | N35: 12610 | O35: 9413 | P35: 20952 | Q35: 25810 | S35: dział V | U35: =SUM(F35:I35)-SUM(F41:I41) -> 78066 | V35: =SUM(J35:M35)-SUM(J41:M41) -> 19622 | W35: =SUM(N35:Q35)-SUM(N41:Q41) -> 59077 | X35: =U35/$U$37 -> 0.010136168 | Y35: =V35/$V$37 -> 0.018273694 | Z35: =W35/$W$37 -> 0.014979069
C36: dział VI | D36: 786326 | E36: 782721 | F36: 853336 | G36: 1098702 | H36: 771199 | I36: 727951 | J36: 540308 | K36: 110853 | L36: 304451 | M36: 76871 | N36: 119437 | O36: 361821 | P36: 872021 | Q36: 356192 | S36: dział VI | U36: =SUM(F36:I36)-SUM(F42:I42) -> 3395536 | V36: =SUM(J36:M36)-SUM(J42:M42) -> 727926 | W36: =SUM(N36:Q36)-SUM(N42:Q42) -> 1664506 | X36: =U36/$U$37 -> 0.44087982 | Y36: =V36/$V$37 -> 0.67790729 | Z36: =W36/$W$37 -> 0.4220382
B37: Korekta | C37: dział I | D37: 31385 | E37: 23581 | F37: 37587 | G37: 54672 | H37: 32092 | I37: 28331 | J37: 167384 | K37: 585887 | L37: 289530 | M37: 46268 | N37: 70750 | O37: 156566 | P37: 70624 | Q37: 21594 | U37: =SUM(U31:U36) -> 7701727 | V37: =SUM(V31:V36) -> 1073784 | W37: =SUM(W31:W36) -> 3943970
C38: dział II | D38: 2949 | E38: 3353 | F38: 4078 | G38: 4125 | H38: 4480 | I38: 4688 | J38: 20730 | K38: 23811 | L38: 19948 | M38: 7697 | N38: 7025 | O38: 8480 | P38: 6815 | Q38: 6149 | U38: =U37=B5 -> FALSE | V38: =V37=C5 -> FALSE | W38: =W37=D5 -> FALSE
C39: dział III | D39: 25 | E39: 67 | F39: 65 | G39: 89 | H39: 90 | I39: 172 | J39: 434 | K39: 341 | L39: 510 | M39: 245 | N39: 213 | O39: 122 | P39: 165 | Q39: 238
C40: dział IV | D40: 12113 | E40: 5137 | F40: 13045 | G40: 20451 | H40: 16293 | I40: 5303 | J40: 57588 | K40: 72054 | L40: 44702 | M40: 26437 | N40: 14626 | O40: 18540 | P40: 12854 | Q40: 5209
C41: dział V | D41: 184 | E41: 604 | F41: 484 | G41: 207 | H41: 430 | I41: 760 | J41: 6917 | K41: 2393 | L41: 2319 | M41: 3922 | N41: 6501 | O41: 1555 | P41: 606 | Q41: 1046
C42: dział VI | D42: 13913 | E42: 10655 | F42: 11351 | G42: 20354 | H42: 14048 | I42: 9899 | J42: 59812 | K42: 165153 | L42: 49437 | M42: 30155 | N42: 10232 | O42: 16526 | P42: 12763 | Q42: 5444 | T42: LICZBA KLIENTÓW
...

Sheet 5. Umowy PUNPUT
B2: Powrót do spisu treści
C4: Tabela 5.1. Liczba umów PUNPUT w podziale na działy, lata oraz przekazane i korekta
E5: 2019 | F5: 2020 | G5: 2021 | H5: 2022 | I5: 2023
I6: Q1
C7: Przekazane | D7: dział I | E7: 4508 | F7: 1497 | G7: 1298 | H7: 2904 | I7: 1231
D8: dział II | E8: 35 | F8: 5 | G8: 10 | H8: 123 | I8: 51
D9: dział III | E9: 8982 | F9: 3595 | G9: 2860 | H9: 4857 | I9: 1765
D10: dział IV | E10: 425 | F10: 285 | G10: 235 | H10: 507 | I10: 1120
D11: dział V | E11: 4350 | F11: 1795 | G11: 3154 | H11: 9158 | I11: 11891
C12: Korekta | D12: dział I | E12: 60 | F12: 231 | G12: 164 | H12: 223 | I12: 49
D13: dział II | E13: 0 | F13: 0 | G13: 0 | H13: 1 | I13: 1
D14: dział III | E14: 113 | F14: 771 | G14: 477 | H14: 363 | I14: 68
D15: dział IV | E15: 1 | F15: 30 | G15: 0 | H15: 4 | I15: 1
D16: dział V | E16: 130 | F16: 272 | G16: 337 | H16: 513 | I16: 30
C18: Rysunek 5.1. Liczba umów PUNPUT w podziale na działy i lata

Sheet 6. Podróżni PUNPUT
B2: Powrót do spisu treści
C4: Tabela 6.1. Liczba Podróżnych PUNPUT w podziale na działy, lata oraz przekazane i korekta
E5: 2019 | F5: 2020 | G5: 2021 | H5: 2022 | I5: 2023
I6: Q1
C7: Przekazane | D7: dział I | E7: 6237 | F7: 2541 | G7: 2225 | H7: 4406 | I7: 2368
D8: dział II | E8: 54 | F8: 13 | G8: 34 | H8: 281 | I8: 128
D9: dział III | E9: 17229 | F9: 6879 | G9: 5764 | H9: 8884 | I9: 3266
D10: dział IV | E10: 1160 | F10: 971 | G10: 1071 | H10: 1285 | I10: 3708
D11: dział V | E11: 15088 | F11: 4942 | G11: 11708 | H11: 30300 | I11: 36532
C12: Korekta | D12: dział I | E12: 124 | F12: 480 | G12: 292 | H12: 378 | I12: 80
D13: dział II | E13: 0 | F13: 0 | G13: 0 | H13: 2 | I13: 2
D14: dział III | E14: 227 | F14: 1756 | G14: 951 | H14: 640 | I14: 117
D15: dział IV | E15: 3 | F15: 38 | G15: 0 | H15: 6 | I15: 3
D16: dział V | E16: 503 | F16: 940 | G16: 1255 | H16: 2243 | I16: 35
C18: Rysunek 6.1. Liczba Podróżnych PUNPUT w podziale na działy i lata

Sheet 7. Liczba umów na miesiąc
D1: 447916 | E1: 479887 | F1: 671789 | G1: 554977 | H1: 713565 | I1: 731356 | J1: 672363 | K1: 634697 | L1: 582507 | M1: 624080 | N1: 535147
B2: Powrót do spisu treści | D2: 658637 | E2: 604364 | F2: 713107 | G2: 723949 | H2: 815203.23 | I2: 820510 | J2: 737535 | K2: 677634 | L2: 679905 | M2: 639040 | N2: 559103 | O2: 1385809 | Q2: Suma z SUM(T2.LICZBAUMOW) | R2: Etykiety kolumn
D3: 658024 | E3: 624416 | F3: 707323 | G3: 597294 | H3: 790250 | I3: 747218 | J3: 754610 | K3: 661267 | L3: 729255 | M3: 650967 | O3: 426707 | Q3: Etykiety wierszy | R3: 1 | S3: 2 | T3: 3
B4: Tabela 7.1. Łączna liczba umów w podziale na miesiące
C6: Styczeń | D6: Luty | E6: Marzec | F6: Kwiecień | G6: Maj | H6: Czerwiec | I6: Lipiec | J6: Sierpień | K6: Wrzesień | L6: Październik | M6: Listopad | N6: Grudzień
B8: 2019 | C8: 230191 | D8: 207790 | E8: 226590 | F8: 200166 | G8: 276985 | H8: 256181 | I8: 304916 | J8: 255347 | K8: 242641 | L8: 194533 | M8: 174194 | N8: 160626
B9: 2020 | C9: 251922 | D9: 188101 | E9: 51358 | F9: 9956 | G9: 34330 | H9: 97356 | I9: 147987 | J9: 112056 | K9: 88600 | L9: 36337 | M9: 23211 | N9: 35834
B10: 2021 | C10: 50244 | D10: 71461 | E10: 78798 | F10: 85636 | G10: 175117 | H10: 241406 | I10: 269073 | J10: 275923 | K10: 173642 | L10: 124798 | M10: 96361 | N10: 81162
B11: 2022 | C11: 155209 | D11: 162806 | E11: 133976 | F11: 177364 | G11: 267040 | H11: 270519 | I11: 262916 | J11: 253383 | K11: 198020 | L11: 142163 | M11: 130883 | N11: 125844
B12: 2023 | C12: 260302 | D12: 215689 | E12: 262811
B15: Rysunek 7.1. Średnia liczba podróżnych przypadająca na jedną umowę w podziale na miesiące | N15: Rysunek 7.2. Łączna liczba umów w podziale na miesiące
B23: Styczeń | C23: Luty | D23: Marzec | E23: Kwiecień | F23: Maj | G23: Czerwiec | H23: Lipiec | I23: Sierpień | J23: Wrzesień | K23: Październik | L23: Listopad | M23: Grudzień
A24: 2019 | B24: 230191 | C24: 207790 | D24: 226590 | E24: 200166 | F24: 276985 | G24: 256181 | H24: 304916 | I24: 255347 | J24: 242641 | K24: 194533 | L24: 174194 | M24: 160626
A25: 2020 | B25: 251922 | C25: 188101 | D25: 51358 | E25: 9956 | F25: 34330 | G25: 97356 | H25: 147987 | I25: 112056 | J25: 88600 | K25: 36337 | L25: 23211 | M25: 35834
A26: 2021 | B26: 50244 | C26: 71461 | D26: 78798 | E26: 85636 | F26: 175117 | G26: 241406 | H26: 269073 | I26: 275923 | J26: 173642 | K26: 124798 | L26: 96361 | M26: 81162
A27: 2022 | B27: 155209 | C27: 162806 | D27: 133976 | E27: 177364 | F27: 267040 | G27: 270519 | H27: 262916 | I27: 253383 | J27: 198020 | K27: 142163 | L27: 130883 | M27: 125844
A28: 2023 | B28: 260302 | C28: 215689 | D28: 262811
A29: 2019 | B29: 662901 | C29: 627829 | D29: 711520 | E29: 603082 | F29: 806467 | G29: 761696 | H29: 766878 | I29: 678832 | J29: 750279 | K29: 673303 | L29: 547399 | M29: 476093
A30: 2020 | B30: 685921 | C30: 537525 | D30: 136267 | E30: 22549 | F30: 88388 | G30: 215521 | H30: 354488 | I30: 280489 | J30: 236853 | K30: 96462 | L30: 56652 | M30: 80531
A31: 2021 | B31: 104446 | C31: 146307 | D31: 153034 | E31: 176289 | F31: 410949 | G31: 620753 | H31: 669555 | I31: 711057 | J31: 554791 | K31: 472619 | L31: 308050 | M31: 221975
A32: 2022 | B32: 379413 | C32: 400162 | D32: 377443 | E32: 551238 | F32: 837609 | G32: 818493 | H32: 659802 | I32: 657355 | J32: 622487 | K32: 506733 | L32: 417620 | M32: 358154
A33: 2023 | B33: 681256 | C33: 578719 | D33: 748058
B34: Styczeń | C34: Luty | D34: Marzec | E34: Kwiecień | F34: Maj | G34: Czerwiec | H34: Lipiec | I34: Sierpień | J34: Wrzesień | K34: Październik | L34: Listopad | M34: Grudzień
A35: 2019 | B35: =B29/B24 -> 2.8797868 | C35: =C29/C24 -> 3.0214592 | D35: =D29/D24 -> 3.1401209 | E35: =E29/E24 -> 3.0129093 | F35: =F29/F24 -> 2.9115909 | G35: =G29/G24 -> 2.9732728 | H35: =H29/H24 -> 2.5150468 | I35: =I29/I24 -> 2.6584687 | ... M35: =M29/M24 -> 2.9639847
A36: 2020 | B36: =B30/B25 -> 2.7227515 | C36: =C30/C25 -> 2.8576403 | D36: =D30/D25 -> 2.653277 | E36: =E30/E25 -> 2.2648654 | F36: =F30/F25 -> 2.5746577 | G36: =G30/G25 -> 2.2137413 | H36: =H30/H25 -> 2.3953996 | I36: =I30/I25 -> 2.5031145 | ... M36: =M30/M25 -> 2.2473349
A37: 2021 | B37: =B31/B26 -> 2.0787756 | C37: =C31/C26 -> 2.0473685 | D37: =D31/D26 -> 1.9421051 | E37: =E31/E26 -> 2.0585852 | F37: =F31/F26 -> 2.3467111 | G37: =G31/G26 -> 2.5714067 | H37: =H31/H26 -> 2.4883768 | I37: =I31/I26 -> 2.5770124 | ... M37: =M31/M26 -> 2.7349622
A38: 2022 | B38: =B32/B27 -> 2.4445296 | C38: =C32/C27 -> 2.457907 | D38: =D32/D27 -> 2.8172434 | E38: =E32/E27 -> 3.1079475 | F38: =F32/F27 -> 3.1366425 | G38: =G32/G27 -> 3.0256396 | H38: =H32/H27 -> 2.5095544 | I38: =I32/I27 -> 2.5943137 | ... M38: =M32/M27 -> 2.8460157
A39: 2023 | B39: =B33/B28 -> 2.6171754 | C39: =C33/C28 -> 2.6831178 | D39: =D33/D28 -> 2.8463725

Sheet 8. Niewypłacalności
B2: Powrót do spisu treści
B4: Tabela 8.1. Niewypłacalności w 2017 roku
B6: Lp. | C6: Nazwa Firmy | F6: Numer Ewidencyjny | I6: Wysokość zabezpieczenia finansowego | L6: Województwo | O6: Data
B8: 1. | C8: Biuro Turystyczno-Usługowe "GRO-TOUR" W. T. Piotrkiewicz Spółka jawna | F8: 8234 | I8: 28 000 EUR | L8: pomorskie | O8: lipiec 2017
B9: 2. | C9: Centrum Szkoleniowo-Konsultacyjne Logos Wiesław Scheller | F9: 4566 | I9: 7 000 EUR | L9: kujawsko-pomorskie | O9: lipiec 2017
B11: Tabela 8.2. Niewypłacalności w 2018 roku
B13: Lp. | C13: Nazwa Firmy | F13: Numer Ewidencyjny | I13: Wysokość zabezpieczenia | L13: Województwo | O13: Data
B15: 1. | C15: REJSCLUB.PL Zbigniew Kąkol | F15: 6934 | I15: 830 000 PLN | L15: pomorskie | O15: luty 2018
B16: 2. | C16: Biuro Turystyczno – Usługowe GROMADA GORZÓW Reneusz Wachol | F16: 4281 | I16: 185 459,40 PLN | L16: lubuskie | O16: kwiecień 2018
B17: 3. | C17: MARTIN Przedsiębiorstwo Turystyczne Beata Tyczyńska Paweł Tyczyński sp. j. | F17: 266 | I17: 123 639,60 PLN | L17: wielkopolskie | O17: czerwiec 2018
B18: 4. | C18: Millennium Travel International Sp. z o.o. | F18: 7334 | I18: 1 200 000 PLN | L18: dolnośląskie | O18: wrzesień 2018
B20: Tabela 8.3. Niewypłacalności w 2019 roku
B22: Lp. | C22: Nazwa Firmy | F22: Numer Ewidencyjny | I22: Wysokość zabezpieczenia finansowego | L22: Województwo | O22: Data
B24: 1. | C24: BIURO TURYSTYCZNE "MISTRAL" DANIEL WOJNICKI SPÓŁKA JAWNA | F24: 4642 | I24: 550 000 PLN | L24: śląskie | O24: luty 2019
B25: 2. | C25: BIURO TURYSTYKI "WYCIECZKA" JERZY SOCHACKI | F25: 186 | I25: 208 505 PLN | L25: łódzkie | O25: luty 2019
B26: 3. | C26: Dybowski Tomasz Przedsiębiorstwo Handlowo Usługowe VOYAGER, Biuro Turystyczne VOYAGER | F26: 3134 | I26: 116 762,80 PLN | L26: kujawsko-pomorskie | O26: luty 2019
B27: 4. | C27: ROBERT OCHWAT OLIMP-CENTRUM PROMOCJI I LAST MINUTE | F27: 4687 | I27: 1 800 000 PLN | L27: małopolskie | O27: marzec 2019
B28: 5. | C28: BIURO PODRÓŻY "MALTUR" Andrzej Kiermasz | F28: 5653 | I28: 331 177,5 PLN | L28: pomorskie | O28: maj 2019
B29: 6. | C29: MEDITERRANEUM SPÓŁKA Z OGRANICZONĄ ODPOWIEDZIALNOŚCIĄ | F29: 1299 | I29: 1 260 000 PLN | L29: wielkopolskie | O29: lipiec 2019
B30: 7. | C30: KUCIERSKI ŁUKASZ "STEJA TRAVEL" | F30: 4439 | I30: 911 939,20 PLN | L30: śląskie | O30: lipiec 2019
B31: 8. | C31: KAMA TOURS Sławomir Dziewulski | F31: 22710 | I31: 215 080 PLN | L31: lubelskie | O31: lipiec 2019
B32: 9. | C32: NECKERMANN POLSKA BIURO PODRÓŻY SPÓŁKA Z OGRANICZONĄ ODPOWIEDZIALNOŚCIĄ | F32: 617 | I32: 25 000 000 PLN | L32: mazowieckie | O32: wrzesień 2019
B33: 10. | C33: BIURO PODRÓŻY JADENAWYCIECZKE.PL ALEKSANDRA OBRĘBSKA | F33: 24547 | I33: 215 080 PLN | L33: łódzkie | O33: październik 2019
B34: 11. | C34: BIURO PODRÓŻY AKTIV TOURS REISEN SPÓŁKA Z OGRANICZONĄ ODPOWIEDZIALNOŚCIĄ | F34: 5783 | I34: 405 000 PLN | L34: pomorskie | O34: grudzień 2019
B36: Tabela 8.4. Niewypłacalności w 2020 roku
B38: Lp. | C38: Nazwa Firmy | F38: Numer Ewidencyjny | I38: Wysokość zabezpieczenia finansowego | L38: Województwo | O38: Data
B40: 1. | C40: TOURASIA POLSKA SPÓŁKA AKCYJNA | F40: 10570 | I40: 607 800 PLN | L40: mazowieckie | O40: kwiecień 2020
B41: 2. | C41: AKTYWNI + LESZEK KOBYŁECKI | F41: 10089 | I41: 32 262 PLN | L41: mazowieckie | O41: czerwiec 2020
B42: 3. | C42: BIURO PODRÓŻY CELTUR KATARZYNA UMŻYŃSKA | F42: 3707 | I42: 120 444,8 PLN | L42: kujawsko-pomorskie | O42: czerwiec 2020
B43: 4. | C43: Biuro Podróży RUTA TOUR s.c. Zuzanna Zygmunt Tomasz Ruta | F43: 173 | I43: 215 080 PLN | L43: wielkopolskie | O43: lipiec 2020
B44: 5. | C44: Biuro Turystyczne Ka-Ma Katarzyna Stein | F44: 9080 | I44: 180 667 PLN | L44: śląskie | O44: sierpień 2020
B45: 6. | C45: PRESTIGE TRAVEL Joanna Dołmatow | F45: 9028 | I45: 19 357 PLN | L45: podlaskie | O45: wrzesień 2020
B46: 7. | C46: Biuro Podróży HERMES TRAVEL Zawada Katarzyna Monika | F46: 9236 | I46: 350 000 PLN | L46: mazowieckie | O46: listopad 2020
B47: 8. | C47: Aleksandra Zakroczymska AGENCJA TURYSTYCZNA TRAF II | F47: 6744 | I47: 19 157 PLN | L47: śląskie | O47: listopad 2020
B49: Tabela 8.5. Niewypłacalności w 2021 roku
B51: Lp. | C51: Nazwa Firmy | F51: Numer Ewidencyjny | I51: Wysokość zabezpieczenia finansowego | L51: Województwo | O51: Data
B53: 1. | C53: BAJA TEAM Jarosław Lewiński | F53: 7796 | I53: 322 620 PLN | L53: kujawsko-pomorskie | O53: styczeń 2021
B54: 2. | C54: Grupa TUR-MEDIA sp. z o.o. | F54: 21604 | I54: 32 262 PLN | L54: świętokrzyskie | O54: maj 2021
B55: 3. | C55: Mouzenidis Travel sp. z o.o. | F55: 7933 | I55: 840 000 PLN | L55: mazowieckie | O55: wrzesień 2021
B56: 4. | C56: Przedsiębiorstwo Turystyczno Handlowe "Janter" sp. z o.o. | F56: 3718 | I56: 280 000 PLN | L56: mazowieckie | O56: październik 2021
...
