Workbook

Sheet Strona tytułowa
B22: BIULETYN INFORMACYJNY
B23: TURYSTYCZNY FUNDUSZ GWARANCYJNY
B24: I kwartał 2022 r.

Sheet Spis treści
B3: SPIS TREŚCI
B7: Nota metodyczna
B8: 1. Liczba deklaracji
B9: 2. Liczba umów OT
B10: 3. Liczba podróżnych OT
B11: 4. Liczba umów i podróżnych PUNPUT
B12: 5. Liczba umów w podziale na miesiące
B13: 6. Niewypłacalności

Sheet Nota metodyczna
B2: Powrót do spisu treści
B4: Nota metodyczna
B6: 1. Przedstawione zestawienie przygotowane zostało na podstawie danych zawartych w bazie danych Turystycznego Funduszu Gwarancyjnego. Turystyczny Fundusz Gwarancyjny działa na mocy ustawy z dnia 24 listopada 2017 r. o imprezach turystycznych i powiązanych usługach turystycznych (Dz. U. z 2017 r. poz. 2361 z późn. zm.). Turystyczny Fundusz Gwarancyjny gromadzi dane dotyczące liczby i rodzaju zawartych w danym miesiącu umów o udział w imprezie turystycznej oraz umów z przedsiębiorcą ułatwiającym nabywanie powiązanych usług turystycznych oraz liczby podróżnych objętych tymi umowami. Dodatkowo gromadzone są informacje na temat liczby umów i liczby podróżnych, których imprezy turystyczne zostały odwołane przez organizatora turystyki z powodu niewystarczającej liczby zgłoszeń, jeżeli realizacja imprezy turystycznej była uzależniona od liczby zgłoszeń, podróżnych, którzy rozwiązali umowę o udział w imprezie turystycznej lub umowę zawartą z przedsiębiorcą ułatwiającym nabywanie powiązanych usług turystycznych lub odstąpili od takiej umowy, a także podróżnych, których umowy zostały zmienione w sposób umożliwiający zarachowanie odprowadzonej składki.
B7: 2. Dane gromadzone są w bazie Turystycznego Funduszu Gwarancyjnego od 01.12.2016 r.
B8: 3. Niniejszy biuletyn przedstawia stan bazy danych TFG aktualny na dzień przygotowania biuletynu. Zawarte w biuletynie informacje mogą różnić się w kolejnych wydaniach biuletynu ze względu na ciągły proces uzupełniania deklaracji przez przedziębiorców turystycznych i poprawiania deklaracji będący efektem kontroli przeprowadzanych przez Marszałków Województw.
B9: 4. Przedstawione zestawienia przygotowane zostały według stanu bazy na dzień 19.05.2022 r.
B10: 5. Użyte pojęcia oznaczają:
B12: Do 30 czerwca 2018 r. obowiązywało rozróżnienie zakresu terytorialnego wykonywanej działalności na 4 działy:
B13: -- Dział I - Imprezy turystyczne na terytorium państw europejskich i pozaeuropejskich z wykorzystaniem transportu lotniczego w ramach przewozu czarterowego, z wyłączeniem pkt 4
B14: -- Dział II - Imprezy turystyczne na terytorium państw pozaeuropejskich z wykorzystaniem innego środka transportu niż transport lotniczy w ramach przewozu czarterowego
B15: -- Dział III - Imprezy turystyczne na terytorium państw europejskich z wykorzystaniem innego środka transportu niż transport lotniczy w ramach przewozu czarterowego, z wyłączeniem pkt 4
B16: -- Dział IV - Imprezy turystyczne na terytorium krajów mających lądową granicę z RP, a w przypadku Federacji Rosyjskiej – w obrębie obszaru obwodu kaliningradzkiego oraz imprezy turystyczne na terytorium RP, w tym imprezy zagranicznej turystyki przyjazdowej
... B34: -- korekta - dane dotyczące liczby umów i liczby podróżnych, których imprezy turystyczne zostały odwołane przez organizatora turystyki z powodu niewystarczającej liczby zgłoszeń, jeżeli realizacja imprezy turystycznej była uzależniona od liczby zgłoszeń, podróżnych, którzy rozwiązali umowę o udział w imprezie turystycznej lub umowę zawartą z przedsiębiorcą ułatwiającym nabywanie powiązanych usług turystycznych lub odstąpili od takiej umowy, a także podróżnych, których umowy zostały zmienione w sposób umożliwiający zarachowanie odprowadzonej składki.

Sheet 1. Liczba deklaracji
B2: Powrót do spisu treści
B4: Tabela 1.1. Liczba deklaracji złożonych za poszczególne kwartały
C6: Q1 | D6: Q2 | E6: Q3 | F6: Q4
B8: 2017 | C8: 11186 | D8: 11592 | E8: 11687 | F8: 11595
B9: 2018 | C9: 11680 | D9: 12142 | E9: 12264 | F9: 12157
B10: 2019 | C10: 12314 | D10: 12574 | E10: 12611 | F10: 12432
B11: 2020 | C11: 12349 | D11: 11610 | E11: 11530 | F11: 11074
B12: 2021 | C12: 10688 | D12: 10847 | E12: 11144 | F12: 10304
B13: 2022 | C13: 9125
B16: Rysunek 1.1. Liczba deklaracji złożonych za poszczególne kwartały z linią trendu.
B17: Trend 2019 | C17: 1 | D17: 1.0211142 | E17: 1.0029426 | F17: 0.98580604
B18: Trend 2020 | C18: 1 | D18: 0.9401571 | E18: 0.99310939 | F18: 0.960451
B19: Trend 2021 | C19: 1 | D19: 1.0148765 | E19: 1.0273808 | F19: 0.92462312
I23: Q1 2017 | J23: Q2 2017 | K23: Q3 2017 | L23: Q4 2017 | M23: Q1 2018
I24: 10981 | J24: 11174 | K24: 11123 | L24: 10900 | M24: 10670
J25: Q2 2017/Q1 2017 | K25: Q3 2017/Q2 2017 | L25: Q4 2017/Q3 2017 | M25: Q1 2018/Q4 2017
I26: 1 | J26: 1.0175758 | K26: 0.99543583 | L26: 0.97995145 | M26: 0.97889908
I27: 8235.75 | J27: 8380.5 | K27: 8342.25 | L27: 8175 | M27: 8002.5

Sheet 2. Umowy OT
B2: Powrót do spisu treści | M2: Tabela 2.2. Liczba umów OT od 1. lipca 2018 roku w podziale na działy, kwartały oraz przekazane i korekta
B4: Tabela 2.1. Liczba umów do 30. czerwca 2018 roku w podziale na działy, kwartały oraz przekazane i korekta | O4: Q3 2018 | P4: Q4 2018 | Q4: Q1 2019 | R4: Q2 2019 | S4: Q3 2019 | T4: Q4 2019 | U4: Q1 2020 | V4: Q2 2020 | W4: Q3 2020 | X4: Q4 2020 | Y4: Q1 2021 | Z4: Q2 2021 | AA4: Q3 2021 | AB4: Q4 2021 | AC4: Q1 2022
M5: Przekazane | N5: dział I | O5: 421411 | P5: 222475 | Q5: 278640 | R5: 285871 | S5: 435692 | T5: 231760 | U5: 207268 | V5: 64748 | W5: 186177 | X5: 47447 | Y5: 86122 | Z5: 269656 | AA5: 334245 | AB5: 161644 | AC5: 216036
D6: Q1 2017 | E6: Q2 2017 | F6: Q3 2017 | G6: Q4 2017 | H6: Q1 2018 | I6: Q2 2018 | N6: dział II | O6: 18439 | P6: 23739 | Q6: 31803 | R6: 23342 | S6: 26841 | T6: 32706 | U6: 23230 | V6: 3252 | W6: 5381 | X6: 4284 | Y6: 8189 | Z6: 12907 | AA6: 15805 | AB6: 18759 | AC6: 22626
N7: dział III | O7: 1041 | P7: 1268 | Q7: 1853 | R7: 1156 | S7: 1677 | T7: 1481 | U7: 993 | V7: 187 | W7: 414 | X7: 436 | Y7: 677 | Z7: 660 | AA7: 970 | AB7: 1052 | AC7: 909
B8: Przekazane | C8: dział I | D8: 174061 | E8: 215929 | F8: 307370 | G8: 209618 | H8: 259498 | I8: 291188 | N8: dział IV | O8: 71506 | P8: 61100 | Q8: 98993 | R8: 86799 | S8: 75987 | T8: 68284 | U8: 66342 | V8: 7108 | W8: 24980 | X8: 7829 | Y8: 12141 | Z8: 36541 | AA8: 55140 | AB8: 30236 | AC8: 53726
C9: dział II | D9: 18086 | E9: 13965 | F9: 15094 | G9: 21000 | H9: 26704 | I9: 19622 | N9: dział V | O9: 5597 | P9: 8246 | Q9: 7445 | R9: 3431 | S9: 7781 | T9: 9919 | U9: 5753 | V9: 781 | W9: 4822 | X9: 2978 | Y9: 6736 | Z9: 4489 | AA9: 8382 | AB9: 10634 | AC9: 7885
C10: dział III | D10: 100022 | E10: 88267 | F10: 83575 | G10: 66859 | H10: 102434 | I10: 89626 | N10: dział VI | O10: 242562 | P10: 181571 | Q10: 241688 | R10: 325745 | S10: 247668 | T10: 178729 | U10: 183384 | V10: 63254 | W10: 122640 | X10: 31458 | Y10: 85260 | Z10: 173096 | AA10: 293889 | AB10: 73983 | AC10: 124881
C11: dział IV | D11: 231928 | E11: 320643 | F11: 312955 | G11: 235489 | H11: 282043 | I11: 369942 | M11: Korekta | N11: dział I | O11: 12771 | P11: 8308 | Q11: 13604 | R11: 20806 | S11: 12517 | T11: 9361 | U11: 61326 | V11: 196952 | W11: 103009 | X11: 17952 | Y11: 25692 | Z11: 56095 | AA11: 27266 | AB11: 8618 | AC11: 11128
B12: Korekta | C12: dział I | D12: 3389 | E12: 9352 | F12: 7817 | G12: 6555 | H12: 9823 | I12: 20570 | N12: dział II | O12: 1726 | P12: 1799 | Q12: 2291 | R12: 2144 | S12: 2527 | T12: 2509 | U12: 9447 | V12: 10148 | W12: 8886 | X12: 3445 | Y12: 3183 | Z12: 3628 | AA12: 3444 | AB12: 2826 | AC12: 3581
C13: dział II | D13: 652 | E13: 981 | F13: 1191 | G13: 1024 | H13: 1658 | I13: 1763 | N13: dział III | O13: 13 | P13: 33 | Q13: 40 | R13: 55 | S13: 52 | T13: 91 | U13: 219 | V13: 222 | W13: 342 | X13: 121 | Y13: 147 | Z13: 68 | AA13: 104 | AB13: 133 | AC13: 123
C14: dział III | D14: 2585 | E14: 7155 | F14: 5005 | G14: 1850 | H14: 3986 | I14: 8285 | N14: dział IV | O14: 6107 | P14: 2267 | Q14: 5674 | R14: 9178 | S14: 7234 | T14: 2280 | U14: 20516 | V14: 22601 | W14: 18151 | X14: 11285 | Y14: 6355 | Z14: 9078 | AA14: 6288 | AB14: 2174 | AC14: 3493
C15: dział IV | D15: 4128 | E15: 9808 | F15: 10160 | G15: 4025 | H15: 5105 | I15: 20961 | N15: dział V | O15: 71 | P15: 183 | Q15: 191 | R15: 77 | S15: 143 | T15: 267 | U15: 2513 | V15: 841 | W15: 772 | X15: 1286 | Y15: 2728 | Z15: 571 | AA15: 291 | AB15: 460 | AC15: 860
N16: dział VI | O16: 7221 | P16: 4118 | Q16: 4777 | R16: 8657 | S16: 7269 | T16: 3753 | U16: 10747 | V16: 27081 | W16: 14920 | X16: 12052 | Y16: 4527 | Z16: 6682 | AA16: 6170 | AB16: 2745 | AC16: 2933
B18: Rysunek 2.1. Liczba umów do 30. czerwca 2018 roku w podziale na działy i kwartały | M18: Rysunek 2.2. Liczba umów OT od 1. lipca 2018 roku w podziale na działy i kwartały
C28: umowy:

Sheet 3. Podróżni OT
B2: Powrót do spisu treści | M2: Tabela 3.2. Liczba Podróżnych OT od 1. lipca 2018 roku w podziale na działy, kwartały oraz przekazane i korekta
B4: Tabela 3.1. Liczba Podróżnych do 30. czerwca 2018 roku w podziale na działy, kwartały oraz przekazane i korekta | O4: Q3 2018 | P4: Q4 2018 | Q4: Q1 2019 | R4: Q2 2019 | S4: Q3 2019 | T4: Q4 2019 | U4: Q1 2020 | V4: Q2 2020 | W4: Q3 2020 | X4: Q4 2020 | Y4: Q1 2021 | Z4: Q2 2021 | AA4: Q3 2021 | AB4: Q4 2021 | AC4: Q1 2022
M5: Przekazane | N5: dział I | O5: 1067957 | P5: 621369 | Q5: 781065 | R5: 762774 | S5: 1125525 | T5: 641040 | U5: 575733 | V5: 186317 | W5: 479692 | X5: 118627 | Y5: 228217 | Z5: 715719 | AA5: 833677 | AB5: 433851 | AC5: 602100
D6: Q1 2017 | E6: Q2 2017 | F6: Q3 2017 | G6: Q4 2017 | H6: Q1 2018 | I6: Q2 2018 | N6: dział II | O6: 41954 | P6: 56678 | Q6: 73412 | R6: 52541 | S6: 61294 | T6: 74458 | U6: 54902 | V6: 6822 | W6: 11580 | X6: 9354 | Y6: 17333 | Z6: 28820 | AA6: 35748 | AB6: 44086 | AC6: 52419
N7: dział III | O7: 2212 | P7: 2516 | Q7: 2888 | R7: 2226 | S7: 3418 | T7: 2979 | U7: 1869 | V7: 311 | W7: 622 | X7: 803 | Y7: 1205 | Z7: 1162 | AA7: 1568 | AB7: 1947 | AC7: 1609
B8: Przekazane | C8: dział I | D8: 482512 | E8: 565322 | F8: 781733 | G8: 575281 | H8: 718475 | I8: 767224 | N8: dział IV | O8: 178436 | P8: 184574 | Q8: 258654 | R8: 217584 | S8: 192541 | T8: 202322 | U8: 160503 | V8: 14915 | W8: 50560 | X8: 18144 | Y8: 20641 | Z8: 73708 | AA8: 124019 | AB8: 67677 | AC8: 111910
C9: dział II | D9: 39779 | E9: 31974 | F9: 36559 | G9: 50487 | H9: 59297 | I9: 45943 | N9: dział V | O9: 15436 | P9: 24021 | Q9: 20337 | R9: 10267 | S9: 21699 | T9: 28218 | U9: 15956 | V9: 1849 | W9: 11062 | X9: 7092 | Y9: 12788 | Z9: 9877 | AA9: 21357 | AB9: 28734 | AC9: 19485
C10: dział III | D10: 242322 | E10: 214537 | F10: 198677 | G10: 185493 | H10: 262712 | I10: 225539 | N10: dział VI | O10: 788625 | P10: 784302 | Q10: 855192 | R10: 1106414 | S10: 776111 | T10: 733677 | U10: 544682 | V10: 112992 | W10: 311018 | X10: 77605 | Y10: 121201 | Z10: 368672 | AA10: 887732 | AB10: 393829 | AC10: 307938
C11: dział IV | D11: 835812 | E11: 1190077 | F11: 873453 | G11: 812175 | H11: 937379 | I11: 1325882.2 | M11: Korekta | N11: dział I | O11: 31385 | P11: 23581 | Q11: 37587 | R11: 54672 | S11: 32092 | T11: 28361 | U11: 167384 | V11: 585890 | W11: 289530 | X11: 46268 | Y11: 70750 | Z11: 156566 | AA11: 70624 | AB11: 21866 | AC11: 27256
B12: Korekta | C12: dział I | D12: 9403 | E12: 23095 | F12: 20411 | G12: 17623 | H12: 25557 | I12: 49332 | N12: dział II | O12: 2949 | P12: 3353 | Q12: 4078 | R12: 4125 | S12: 4480 | T12: 4688 | U12: 20744 | V12: 23811 | W12: 19948 | X12: 7724 | Y12: 7025 | Z12: 8479 | AA12: 6815 | AB12: 6228 | AC12: 7608
C13: dział II | D13: 1200 | E13: 1899 | F13: 2047 | G13: 1889 | H13: 2916 | I13: 3186 | N13: dział III | O13: 25 | P13: 67 | Q13: 65 | R13: 89 | S13: 90 | T13: 172 | U13: 434 | V13: 341 | W13: 510 | X13: 245 | Y13: 213 | Z13: 122 | AA13: 165 | AB13: 240 | AC13: 230
C14: dział III | D14: 5134 | E14: 12917 | F14: 9546 | G14: 4018 | H14: 8597 | I14: 18006 | N14: dział IV | O14: 12113 | P14: 5137 | Q14: 13047 | R14: 20451 | S14: 16293 | T14: 5303 | U14: 57789 | V14: 72299 | W14: 44959 | X14: 29035 | Y14: 14709 | Z14: 18757 | AA14: 13121 | AB14: 5415 | AC14: 6345
C15: dział IV | D15: 11710 | E15: 23801 | F15: 24520 | G15: 10021 | H15: 13108 | I15: 41959.23 | N15: dział V | O15: 184 | P15: 604 | Q15: 484 | R15: 207 | S15: 430 | T15: 784 | U15: 6986 | V15: 2399 | W15: 2407 | X15: 4044 | Y15: 6526 | Z15: 1609 | AA15: 613 | AB15: 1200 | AC15: 2719
N16: dział VI | O16: 13913 | P16: 10655 | Q16: 11366 | R16: 20374 | S16: 14090 | T16: 9899 | U16: 60084 | V16: 165303 | W16: 49593 | X16: 30378 | Y16: 10276 | Z16: 16517 | AA16: 12913 | AB16: 5750 | AC16: 5630
B18: Rysunek 3.1. Liczba Podróżnych do 30. czerwca 2018 roku w podziale na działy i kwartały | M18: Rysunek 3.2. Liczba Podróżnych OT od 1. lipca 2018 roku w podziale na działy i kwartały
X26: Q2 2020
AC29: Q1 2021
N30: umowy: | AC30: 237476
AC31: 18160
AC32: 1115
AC33: 20202
AC34: 11594
AC35: 106807

Sheet podsumowanie
B1: LICZBA KLIENTÓW
B2: 2019 | C2: 2020 | D2: 2021
A3: OT | B3: =SUM('3. Podróżni OT'!Q5:T10) -> 8006636 | C3: =SUM('3. Podróżni OT'!U5:X10) -> 2773010 | D3: =SUM('3. Podróżni OT'!Y5:AB10) -> 4473568
A4: korekta | B4: =SUM('3. Podróżni OT'!Q11:T16) -> 283227 | C4: =SUM('3. Podróżni OT'!U11:X16) -> 1688105 | D4: =SUM('3. Podróżni OT'!Y11:AB16) -> 456499
A5: razem | B5: =B3-B4 -> 7723409 | C5: =C3-C4 -> 1084905 | D5: =D3-D4 -> 4017069
A6: z zawartych | B6: =B3/1000000 -> 8.006636 | C6: =C3/1000000 -> 2.77301 | D6: =D3/1000000 -> 4.473568 | E6: z zawartych
A7: tych co wyjechali | B7: =B5/1000000 -> 7.723409 | C7: =C5/1000000 -> 1.084905 | D7: =D5/1000000 -> 4.017069 | E7: tych co wyjechali
A9: zmiana | B9: 19/18 | C9: 20/19 | D9: 21/20
A10: z zawartych | C10: =C3/B3-1 -> -0.65366104 | D10: =D3/C3-1 -> 0.61325347
A11: tych co wyjechali | C11: =C5/B5-1 -> -0.85953029 | D11: =D5/C5-1 -> 2.7026919
D12: 21/19
A13: z zawartych | D13: =D3/B3-1 -> -0.44126747
A14: tych co wyjechali | D14: =D5/B5-1 -> -0.47988395
B15: LICZBA umów (zawarte-korekty)
B16: 2019 | C16: 2020 | D16: 2021
A17: OT | B17: =SUM('2. Umowy OT'!Q5:T10) -> 2705291 | C17: =SUM('2. Umowy OT'!U5:X10) -> 1065146 | D17: =SUM('2. Umowy OT'!Y5:AB10) -> 1701213
A18: korekta | B18: =SUM('2. Umowy OT'!Q11:T16) -> 115497 | C18: =SUM('2. Umowy OT'!U11:X16) -> 554834 | D18: =SUM('2. Umowy OT'!Y11:AB16) -> 179273
A19: razem | B19: =B17-B18 -> 2589794 | C19: =C17-C18 -> 510312 | D19: =D17-D18 -> 1521940
A20: z zawartych | B20: =B17/1000000 -> 2.705291 | C20: =C17/1000000 -> 1.065146 | D20: =D17/1000000 -> 1.701213
A21: tych co wyjechali | B21: =B19/1000000 -> 2.589794 | C21: =C19/1000000 -> 0.510312 | D21: =D19/1000000 -> 1.52194
A23: zmiana | B23: 19/18 | C23: 20/19 | D23: 21/20
A24: z zawartych | C24: =C17/B17-1 -> -0.60627304 | D24: =D17/C17-1 -> 0.59716414
A25: tych co wyjechali | C25: =C19/B19-1 -> -0.80295267 | D25: =D19/C19-1 -> 1.9823716
D26: 21/19
A27: z zawartych | D27: =D17/B17-1 -> -0.37115342
A28: tych co wyjechali | D28: =D19/B19-1 -> -0.41233164
D29: OT | T29: LICZBA KLIENTÓW
D30: Q3 2018 | E30: Q4 2018 | F30: Q1 2019 | G30: Q2 2019 | H30: Q3 2019 | I30: Q4 2019 | J30: Q1 2020 | K30: Q2 2020 | L30: Q3 2020 | M30: Q4 2020 | N30: Q1 2021 | O30: Q2 2021 | P30: Q3 2021 | Q30: Q4 2021 | T30: 2018 | U30: 2019 | V30: 2020 | W30: 2021 | X30: 2019 | Y30: 2020 | Z30: 2021
B31: Przekazane | C31: dział I | D31: 1067957 | E31: 621369 | F31: 781061 | G31: 762774 | H31: 1125525 | I31: 641010 | J31: 575733 | K31: 186317 | L31: 479680 | M31: 118622 | N31: 228216 | O31: 715655 | P31: 833412 | Q31: 432274 | S31: dział I | U31: =SUM(F31:I31)-SUM(F37:I37) -> 3157688 | V31: =SUM(J31:M31)-SUM(J37:M37) -> 271283 | W31: =SUM(N31:Q31)-SUM(N37:Q37) -> 1890023 | X31: =U31/$U$37 -> 0.40999739 | Y31: =V31/$V$37 -> 0.25264206 | Z31: =W31/$W$37 -> 0.4792184
C32: dział II | D32: 41954 | E32: 56672 | F32: 73408 | G32: 52539 | H32: 61288 | I32: 74458 | J32: 54842 | K32: 6822 | L32: 11580 | M32: 9354 | N32: 17333 | O32: 28725 | P32: 35711 | Q32: 43077 | S32: dział II | U32: =SUM(F32:I32)-SUM(F38:I38) -> 244322 | V32: =SUM(J32:M32)-SUM(J38:M38) -> 10412 | W32: =SUM(N32:Q32)-SUM(N38:Q38) -> 96377 | X32: =U32/$U$37 -> 0.031723015 | Y32: =V32/$V$37 -> 0.0096965498 | Z32: =W32/$W$37 -> 0.024436545
C33: dział III | D33: 2212 | E33: 2468 | F33: 2888 | G33: 2223 | H33: 3414 | I33: 2979 | J33: 1869 | K33: 311 | L33: 505 | M33: 803 | N33: 1205 | O33: 1191 | P33: 1384 | Q33: 1861 | S33: dział III | U33: =SUM(F33:I33)-SUM(F39:I39) -> 11088 | V33: =SUM(J33:M33)-SUM(J39:M39) -> 1958 | W33: =SUM(N33:Q33)-SUM(N39:Q39) -> 4903 | X33: =U33/$U$37 -> 0.0014396771 | Y33: =V33/$V$37 -> 0.001823458 | Z33: =W33/$W$37 -> 0.0012431636
C34: dział IV | D34: 178315 | E34: 184433 | F34: 258436 | G34: 217404 | H34: 192319 | I34: 201960 | J34: 160273 | K34: 14900 | L34: 50132 | M34: 18059 | N34: 20595 | O34: 73028 | P34: 122342 | Q34: 64348 | S34: dział IV | U34: =SUM(F34:I34)-SUM(F40:I40) -> 815027 | V34: =SUM(J34:M34)-SUM(J40:M40) -> 42583 | W34: =SUM(N34:Q34)-SUM(N40:Q40) -> 229084 | X34: =U34/$U$37 -> 0.10582393 | Y34: =V34/$V$37 -> 0.039656951 | Z34: =W34/$W$37 -> 0.05808462
C35: dział V | D35: 15380 | E35: 23840 | F35: 20168 | G35: 10220 | H35: 21426 | I35: 28133 | J35: 15665 | K35: 1713 | L35: 10815 | M35: 6980 | N35: 12610 | O35: 9413 | P35: 20952 | Q35: 25810 | S35: dział V | U35: =SUM(F35:I35)-SUM(F41:I41) -> 78066 | V35: =SUM(J35:M35)-SUM(J41:M41) -> 19622 | W35: =SUM(N35:Q35)-SUM(N41:Q41) -> 59077 | X35: =U35/$U$37 -> 0.010136168 | Y35: =V35/$V$37 -> 0.018273694 | Z35: =W35/$W$37 -> 0.014979069
C36: dział VI | D36: 786326 | E36: 782721 | F36: 853336 | G36: 1098702 | H36: 771199 | I36: 727951 | J36: 540308 | K36: 110853 | L36: 304451 | M36: 76871 | N36: 119437 | O36: 361821 | P36: 872021 | Q36: 356192 | S36: dział VI | U36: =SUM(F36:I36)-SUM(F42:I42) -> 3395536 | V36: =SUM(J36:M36)-SUM(J42:M42) -> 727926 | W36: =SUM(N36:Q36)-SUM(N42:Q42) -> 1664506 | X36: =U36/$U$37 -> 0.44087982 | Y36: =V36/$V$37 -> 0.67790729 | Z36: =W36/$W$37 -> 0.4220382
B37: Korekta | C37: dział I | D37: 31385 | E37: 23581 | F37: 37587 | G37: 54672 | H37: 32092 | I37: 28331 | J37: 167384 | K37: 585887 | L37: 289530 | M37: 46268 | N37: 70750 | O37: 156566 | P37: 70624 | Q37: 21594 | U37: =SUM(U31:U36) -> 7701727 | V37: =SUM(V31:V36) -> 1073784 | W37: =SUM(W31:W36) -> 3943970
C38: dział II | D38: 2949 | E38: 3353 | F38: 4078 | G38: 4125 | H38: 4480 | I38: 4688 | J38: 20730 | K38: 23811 | L38: 19948 | M38: 7697 | N38: 7025 | O38: 8480 | P38: 6815 | Q38: 6149 | U38: =U37=B5 -> FALSE | V38: =V37=C5 -> FALSE | W38: =W37=D5 -> FALSE
C39: dział III | D39: 25 | E39: 67 | F39: 65 | G39: 89 | H39: 90 | I39: 172 | J39: 434 | K39: 341 | L39: 510 | M39: 245 | N39: 213 | O39: 122 | P39: 165 | Q39: 238
C40: dział IV | D40: 12113 | E40: 5137 | F40: 13045 | G40: 20451 | H40: 16293 | I40: 5303 | J40: 57588 | K40: 72054 | L40: 44702 | M40: 26437 | N40: 14626 | O40: 18540 | P40: 12854 | Q40: 5209
C41: dział V | D41: 184 | E41: 604 | F41: 484 | G41: 207 | H41: 430 | I41: 760 | J41: 6917 | K41: 2393 | L41: 2319 | M41: 3922 | N41: 6501 | O41: 1555 | P41: 606 | Q41: 1046
C42: dział VI | D42: 13913 | E42: 10655 | F42: 11351 | G42: 20354 | H42: 14048 | I42: 9899 | J42: 59812 | K42: 165153 | L42: 49437 | M42: 30155 | N42: 10232 | O42: 16526 | P42: 12763 | Q42: 5444 | T42: LICZBA KLIENTÓW
T43: 2018 | U43: 2019 | V43: 2020 | W43: 2021 | X43: 2019 | Y43: 2020 | Z43: 2021
S44: dział I | U44: =U31/1000000 -> 3.157688 | V44: =V31/1000000 -> 0.271283 | W44: =W31/1000000 -> 1.890023 | X44: =U44/$U$50 -> 0.40999739 | Y44: =V44/$V$50 -> 0.25264206 | Z44: =W44/$W$50 -> 0.4792184
S45: dział II | U45: =U32/1000000 -> 0.244322 | V45: =V32/1000000 -> 0.010412 | W45: =W32/1000000 -> 0.096377 | X45: =U45/$U$50 -> 0.031723015 | Y45: =V45/$V$50 -> 0.0096965498 | Z45: =W45/$W$50 -> 0.024436545
S46: dział III | U46: =U33/1000000 -> 0.011088 | V46: =V33/1000000 -> 0.001958 | W46: =W33/1000000 -> 0.004903 | X46: =U46/$U$50 -> 0.0014396771 | Y46: =V46/$V$50 -> 0.001823458 | Z46: =W46/$W$50 -> 0.0012431636
B47: Tabela 5.1. Łączna liczba umów w podziale na miesiące | S47: dział IV | U47: =U34/1000000 -> 0.815027 | V47: =V34/1000000 -> 0.042583 | W47: =W34/1000000 -> 0.229084 | X47: =U47/$U$50 -> 0.10582393 | Y47: =V47/$V$50 -> 0.039656951 | Z47: =W47/$W$50 -> 0.05808462
S48: dział V | U48: =U35/1000000 -> 0.078066 | V48: =V35/1000000 -> 0.019622 | W48: =W35/1000000 -> 0.059077 | X48: =U48/$U$50 -> 0.010136168 | Y48: =V48/$V$50 -> 0.018273694 | Z48: =W48/$W$50 -> 0.014979069
C49: Styczeń | D49: Luty | E49: Marzec | F49: Kwiecień | G49: Maj | H49: Czerwiec | I49: Lipiec | J49: Sierpień | K49: Wrzesień | L49: Październik | M49: Listopad | N49: Grudzień | S49: dział VI | U49: =U36/1000000 -> 3.395536 | V49: =V36/1000000 -> 0.727926 | W49: =W36/1000000 -> 1.664506 | X49: =U49/$U$50 -> 0.44087982 | Y49: =V49/$V$50 -> 0.67790729 | Z49: =W49/$W$50 -> 0.4220382
U50: =SUM(U44:U49) -> 7.701727 | V50: =SUM(V44:V49) -> 1.073784 | W50: =SUM(W44:W49) -> 3.94397
B51: 2017 | C51: 156414 | D51: 166801 | E51: 200825 | F51: 176969 | G51: 215207 | H51: 246247 | I51: 274829 | J51: 250778 | K51: 193140 | L51: 197324 | M51: 177675 | N51: 157960
B52: 2018 | C52: 237927 | D52: 205992 | E52: 225966 | F52: 242951 | G52: 251498 | H52: 274253 | I52: 286581 | J52: 257698 | K52: 216933 | L52: 183664 | M52: 163618 | N52: 153388
B53: 2019 | C53: 229442 | D53: 206834 | E53: 226253 | F53: 199836 | G53: 275576 | H53: 253999 | I53: 301966 | J53: 253965 | K53: 241776 | L53: 193841 | M53: 173384 | N53: 159331
B54: 2020 | C54: 250679 | D54: 185927 | E54: 50700 | F54: 9936 | G54: 33930 | H54: 94331 | I54: 144403 | J54: 110030 | K54: 88000 | L54: 36134 | M54: 23145 | N54: 35708 | T54: 2018 | U54: 2019 | V54: 2020 | W54: 2021 | X54: 2019 | Y54: 2020 | Z54: 2021
B55: 2021 | C55: 50013 | D55: 70799 | E55: 77885 | F55: 84399 | G55: 173550 | H55: 236861 | I55: 263282 | J55: 270727 | K55: 168923 | L55: 121113 | M55: 92653 | N55: 70435 | S55: dział I | U55: 3.157688 | V55: 0.271283 | W55: 1.890023 | X55: =U55/$U$50 -> 0.40999739 | Y55: =V55/$V$50 -> 0.25264206 | Z55: =W55/$W$50 -> 0.4792184
S56: dział VI | U56: 3.395536 | V56: 0.727926 | W56: 1.664506 | X56: =U56/$U$50 -> 0.44087982 | Y56: =V56/$V$50 -> 0.67790729 | Z56: =W56/$W$50 -> 0.4220382
S57: dział IV | U57: 0.815027 | V57: 0.042583 | W57: 0.229084 | X57: =U57/$U$50 -> 0.10582393 | Y57: =V57/$V$50 -> 0.039656951 | Z57: =W57/$W$50 -> 0.05808462
S58: dział II | U58: 0.244322 | V58: 0.010412 | W58: 0.096377 | X58: =U58/$U$50 -> 0.031723015 | Y58: =V58/$V$50 -> 0.0096965498 | Z58: =W58/$W$50 -> 0.024436545
S59: dział V | U59: 0.078066 | V59: 0.019622 | W59: 0.059077 | X59: =U59/$U$50 -> 0.010136168 | Y59: =V59/$V$50 -> 0.018273694 | Z59: =W59/$W$50 -> 0.014979069
S60: dział III | U60: 0.011088 | V60: 0.001958 | W60: 0.004903 | X60: =U60/$U$50 -> 0.0014396771 | Y60: =V60/$V$50 -> 0.001823458 | Z60: =W60/$W$50 -> 0.0012431636
U61: =SUM(U55:U60) -> 7.701727 | V61: =SUM(V55:V60) -> 1.073784 | W61: =SUM(W55:W60) -> 3.94397 | X61: =U61/$U$50 -> 1 | Y61: =V61/$V$50 -> 1 | Z61: =W61/$W$50 -> 1
U63: =SUM(U57:U60) -> 1.148503 | W63: =SUM(W57:W60) -> 0.389441
U64: =U63/U61 -> 0.14912279 | W64: =W63/W61 -> 0.098743398

Sheet 4. Umowy i Podróżni PUNPUT
B2: Powrót do spisu treści
B4: Tabela 4.1. Liczba umów PUNPUT w podziale na działy, kwartały oraz przekazane i korekta | T4: Tabela 4.2. Liczba Podróżnych PUNPUT w podziale na działy, kwartały oraz przekazane i korekta
D6: Q3 2018 | E6: Q4 2018 | F6: Q1 2019 | G6: Q2 2019 | H6: Q3 2019 | I6: Q4 2019 | J6: Q1 2020 | K6: Q2 2020 | L6: Q3 2020 | M6: Q4 2020 | N6: Q1 2021 | O6: Q2 2021 | P6: Q3 2021 | Q6: Q4 2021 | R6: Q1 2022 | V6: Q3 2018 | W6: Q4 2018 | X6: Q1 2019 | Y6: Q2 2019 | Z6: Q3 2019 | AA6: Q4 2019 | AB6: Q1 2020 | AC6: Q2 2020 | AD6: Q3 2020 | AE6: Q4 2020 | AF6: Q1 2021 | AG6: Q2 2021 | AH6: Q3 2021 | AI6: Q4 2021 | AJ6: Q1 2022
B7: Przekazane | C7: dział I | D7: 258 | E7: 360 | F7: 513 | G7: 891 | H7: 1119 | I7: 1981 | J7: 678 | K7: 181 | L7: 346 | M7: 292 | N7: 221 | O7: 424 | P7: 382 | Q7: 271 | R7: 577 | T7: Przekazane | U7: dział I | V7: 466 | W7: 686 | X7: 931 | Y7: 1649 | Z7: 2026 | AA7: 1625 | AB7: 1203 | AC7: 300 | AD7: 564 | AE7: 474 | AF7: 335 | AG7: 732 | AH7: 628 | AI7: 530 | AJ7: 921
C8: dział II | D8: 3 | E8: 2 | F8: 1 | G8: 4 | H8: 7 | I8: 23 | J8: 4 | K8: 0 | L8: 0 | M8: 1 | N8: 2 | O8: 1 | P8: 3 | Q8: 4 | R8: 8 | U8: dział II | V8: 3 | W8: 8 | X8: 2 | Y8: 5 | Z8: 14 | AA8: 33 | AB8: 9 | AC8: 0 | AD8: 0 | AE8: 4 | AF8: 7 | AG8: 2 | AH8: 13 | AI8: 12 | AJ8: 8
C9: dział III | D9: 869 | E9: 1333 | F9: 1557 | G9: 2626 | H9: 2694 | I9: 2098 | J9: 1610 | K9: 340 | L9: 1278 | M9: 362 | N9: 215 | O9: 855 | P9: 1231 | Q9: 559 | R9: 832 | U9: dział III | V9: 1684 | W9: 2294 | X9: 3125 | Y9: 5094 | Z9: 5045 | AA9: 3958 | AB9: 3165 | AC9: 691 | AD9: 2473 | AE9: 543 | AF9: 413 | AG9: 1691 | AH9: 2666 | AI9: 994 | AJ9: 1638
C10: dział IV | D10: 14 | E10: 170 | F10: 4 | G10: 158 | H10: 153 | I10: 103 | J10: 22 | K10: 42 | L10: 152 | M10: 69 | N10: 4 | O10: 39 | P10: 128 | Q10: 56 | R10: 130 | U10: dział IV | V10: 67 | W10: 288 | X10: 92 | Y10: 289 | Z10: 532 | AA10: 204 | AB10: 59 | AC10: 64 | AD10: 628 | AE10: 220 | AF10: 17 | AG10: 52 | AH10: 812 | AI10: 161 | AJ10: 141
C11: dział V | D11: 497 | E11: 584 | F11: 729 | G11: 1353 | H11: 1283 | I11: 969 | J11: 792 | K11: 309 | L11: 609 | M11: 85 | N11: 156 | O11: 593 | P11: 1859 | Q11: 376 | R11: 569 | U11: dział V | V11: 1747 | W11: 2004 | X11: 1845 | Y11: 5842 | Z11: 3004 | AA11: 4315 | AB11: 2534 | AC11: 393 | AD11: 1495 | AE11: 520 | AF11: 584 | AG11: 1946 | AH11: 6295 | AI11: 2561 | AJ11: 1939
B12: Korekta | C12: dział I | D12: 0 | E12: 0 | F12: 0 | G12: 13 | H12: 24 | I12: 23 | J12: 72 | K12: 69 | L12: 42 | M12: 48 | N12: 26 | O12: 75 | P12: 37 | Q12: 26 | R12: 39 | T12: Korekta | U12: dział I | V12: 0 | W12: 0 | X12: 0 | Y12: 26 | Z12: 52 | AA12: 46 | AB12: 155 | AC12: 146 | AD12: 78 | AE12: 101 | AF12: 50 | AG12: 133 | AH12: 61 | AI12: 48 | AJ12: 70
C13: dział II | D13: 0 | E13: 0 | F13: 0 | G13: 0 | H13: 0 | I13: 0 | J13: 0 | K13: 0 | L13: 0 | M13: 0 | N13: 0 | O13: 0 | P13: 0 | Q13: 0 | R13: 0 | U13: dział II | V13: 0 | W13: 0 | X13: 0 | Y13: 0 | Z13: 0 | AA13: 0 | AB13: 0 | AC13: 0 | AD13: 0 | AE13: 0 | AF13: 0 | AG13: 0 | AH13: 0 | AI13: 0 | AJ13: 0
C14: dział III | D14: 11 | E14: 39 | F14: 0 | G14: 43 | H14: 33 | I14: 37 | J14: 171 | K14: 296 | L14: 149 | M14: 155 | N14: 108 | O14: 182 | P14: 113 | Q14: 74 | R14: 50 | U14: dział III | V14: 11 | W14: 39 | X14: 0 | Y14: 83 | Z14: 68 | AA14: 76 | AB14: 342 | AC14: 731 | AD14: 372 | AE14: 311 | AF14: 208 | AG14: 352 | AH14: 253 | AI14: 138 | AJ14: 116
C15: dział IV | D15: 0 | E15: 0 | F15: 0 | G15: 1 | H15: 0 | I15: 0 | J15: 0 | K15: 16 | L15: 0 | M15: 14 | N15: 0 | O15: 0 | P15: 0 | Q15: 0 | R15: 0 | U15: dział IV | V15: 0 | W15: 0 | X15: 0 | Y15: 3 | Z15: 0 | AA15: 0 | AB15: 0 | AC15: 24 | AD15: 0 | AE15: 14 | AF15: 0 | AG15: 0 | AH15: 0 | AI15: 0 | AJ15: 0
C16: dział V | D16: 0 | E16: 78 | F16: 2 | G16: 86 | H16: 24 | I16: 18 | J16: 119 | K16: 57 | L16: 34 | M16: 62 | N16: 11 | O16: 46 | P16: 162 | Q16: 117 | R16: 96 | U16: dział V | V16: 0 | W16: 108 | X16: 2 | Y16: 437 | Z16: 38 | AA16: 26 | AB16: 302 | AC16: 131 | AD16: 404 | AE16: 103 | AF16: 18 | AG16: 172 | AH16: 598 | AI16: 422 | AJ16: 345
B18: Rysunek 4.1. Liczba umów PUNPUT w podziale na działy i kwartały | T18: Rysunek 4.2. Liczba Podróżnych PUNPUT w podziale na działy i kwartały

Sheet 5. Liczba umów na miesiąc
D1: 447916 | E1: 479887 | F1: 671789 | G1: 554977 | H1: 713565 | I1: 731356 | J1: 672363 | K1: 634697 | L1: 582507 | M1: 624080 | N1: 535147
B2: Powrót do spisu treści | D2: 658637 | E2: 604364 | F2: 713107 | G2: 723949 | H2: 815203.23 | I2: 820510 | J2: 737535 | K2: 677634 | L2: 679905 | M2: 639040 | N2: 559103 | O2: 1385809 | Q2: Suma z SUM(T2.LICZBAUMOW) | R2: Etykiety kolumn
D3: 658024 | E3: 624416 | F3: 707323 | G3: 597294 | H3: 790250 | I3: 747218 | J3: 754610 | K3: 661267 | L3: 729255 | M3: 650967 | O3: 426707 | Q3: Etykiety wierszy | R3: 1 | S3: 2 | T3: 3
B4: Tabela 5.1. Łączna liczba umów w podziale na miesiące
C6: Styczeń | D6: Luty | E6: Marzec | F6: Kwiecień | G6: Maj | H6: Czerwiec | I6: Lipiec | J6: Sierpień | K6: Wrzesień | L6: Październik | M6: Listopad | N6: Grudzień
B8: 2017 | C8: 156414 | D8: 166836 | E8: 200847 | F8: 177052 | G8: 215253 | H8: 246499 | I8: 275058 | J8: 250794 | K8: 193142 | L8: 197328 | M8: 177678 | N8: 157960
B9: 2018 | C9: 238161 | D9: 206085 | E9: 226433 | F9: 243074 | G9: 252186 | H9: 275118 | I9: 287061 | J9: 257889 | K9: 217247 | L9: 183731 | M9: 163654 | N9: 153463
B10: 2019 | C10: 229589 | D10: 207215 | E10: 226422 | F10: 199968 | G10: 276282 | H10: 255126 | I10: 303794 | J10: 254801 | K10: 242307 | L10: 194272 | M10: 173809 | N10: 159972
B11: 2020 | C11: 251677 | D11: 187118 | E11: 51281 | F11: 9965 | G11: 34104 | H11: 96133 | I11: 146826 | J11: 111496 | K11: 88477 | L11: 36265 | M11: 23192 | N11: 35784
B12: 2021 | C12: 50156 | D12: 71207 | E12: 78360 | F12: 84841 | G12: 174540 | H12: 239880 | I12: 266953 | J12: 273236 | K12: 171845 | L12: 123482 | M12: 95151 | N12: 78941
B13: 2022 | C13: 149586 | D13: 154198 | E13: 124395
B15: Rysunek 5.1. Średnia liczba Podróżnych przypadająca na jedną umowę w podziale na miesiące | M15: Rysunek 5.2. Łączna liczba umów w podziale na miesiące
B25: Styczeń | C25: Luty | D25: Marzec | E25: Kwiecień | F25: Maj | G25: Czerwiec | H25: Lipiec | I25: Sierpień | J25: Wrzesień | K25: Październik | L25: Listopad | M25: Grudzień
A26: 2017 | B26: 156414 | C26: 166836 | D26: 200847 | E26: 177052 | F26: 215253 | G26: 246499 | H26: 275058 | I26: 250794 | J26: 193142 | K26: 197328 | L26: 177678 | M26: 157960
A27: 2018 | B27: 238161 | C27: 206085 | D27: 226433 | E27: 243074 | F27: 252186 | G27: 275118 | H27: 287061 | I27: 257889 | J27: 217247 | K27: 183731 | L27: 163654 | M27: 153463
A28: 2019 | B28: 229589 | C28: 207215 | D28: 226422 | E28: 199968 | F28: 276282 | G28: 255126 | H28: 303794 | I28: 254801 | J28: 242307 | K28: 194272 | L28: 173809 | M28: 159972
A29: 2020 | B29: 251677 | C29: 187118 | D29: 51281 | E29: 9965 | F29: 34104 | G29: 96133 | H29: 146826 | I29: 111496 | J29: 88477 | K29: 36265 | L29: 23192 | M29: 35784
A30: 2021 | B30: 50156 | C30: 71207 | D30: 78360 | E30: 84841 | F30: 174540 | G30: 239880 | H30: 266953 | I30: 273236 | J30: 171845 | K30: 123482 | L30: 95151 | M30: 78941
A31: 2017 | B31: 149586 | C31: 154198 | D31: 124395
A32: 2018 | B32: 448018 | C32: 480171 | D32: 672236 | E32: 555276 | F32: 714146 | G32: 732488 | H32: 672720 | I32: 634783 | J32: 582919 | K32: 624267 | L32: 535230 | M32: 463939
A33: 2019 | B33: 659184 | C33: 604533 | D33: 714146 | E33: 724637 | F33: 817357.23 | G33: 822698 | H33: 739437 | I33: 678979 | J33: 680171 | K33: 640246 | L33: 560857 | M33: 477637
A34: 2020 | B34: 660480 | C34: 626582 | D34: 710481 | E34: 601736 | F34: 804022 | G34: 758927 | H34: 764971 | I34: 677706 | J34: 748532 | K34: 671659 | L34: 546486 | M34: 474684
A35: 2021 | B35: 688187 | C35: 536090 | D35: 136338 | E35: 22465 | F35: 88151 | G35: 214038 | H35: 353261 | I35: 279799 | J35: 236634 | K35: 96328 | L35: 56587 | M35: 80471
A36: 2017 | B36: 104256 | C36: 145982 | D36: 152503 | E36: 175288 | F36: 409869 | G36: 617224 | H36: 666463 | I36: 703179 | J36: 544873 | K36: 460972 | L36: 300371 | M36: 213039
A37: 2018 | B37: 368431 | C37: 384739 | D37: 346938
A38: 2019 | B38: Styczeń | C38: Luty | D38: Marzec | E38: Kwiecień | F38: Maj | G38: Czerwiec | H38: Lipiec | I38: Sierpień | J38: Wrzesień | K38: Październik | L38: Listopad | M38: Grudzień
A39: 2017 | B39: 2.8643088 | C39: 2.8781018 | D39: 3.3470054 | E39: 3.1362312 | F39: 3.3177052 | G39: 2.9715658 | H39: 2.4457387 | I39: 2.5310932 | J39: 3.0180851 | K39: 3.1636007 | L39: 3.0123594 | M39: 2.9370663
A40: 2018 | B40: 2.7678083 | C40: 2.9334158 | D40: 3.1538954 | E40: 2.9811374 | F40: 3.2410888 | G40: 2.990346 | H40: 2.5758881 | I40: 2.6328343 | J40: 3.1308649 | K40: 3.4846923 | L40: 3.4270901 | M40: 3.1123919
A41: 2019 | B41: 2.8767929 | C41: 3.0238255 | D41: 3.137862 | E41: 3.0091615 | F41: 2.9101498 | G41: 2.9747145 | H41: 2.5180583 | I41: 2.6597462 | J41: 3.0891885 | K41: 3.4573124 | L41: 3.1441755 | M41: 2.9672943
A42: 2020 | B42: 2.7344056 | C42: 2.8649836 | D42: 2.6586455 | E42: 2.2543904 | F42: 2.5847701 | G42: 2.2264779 | H42: 2.405984 | I42: 2.5094981 | J42: 2.6745256 | K42: 2.656225 | L42: 2.4399362 | M42: 2.2487983
A43: 2021 | B43: 2.0786347 | C43: 2.0501074 | D43: 1.9461843 | E43: 2.0660765 | F43: 2.3482812 | G43: 2.5730532 | H43: 2.4965556 | I43: 2.5735225 | J43: 3.1707236 | K43: 3.7331109 | L43: 3.1567824 | M43: 2.6987117
A44: 2022 | B44: 2.4630046 | C44: 2.4950972 | D44: 2.7890028

Sheet 6. Niewypłacalności
B2: Powrót do spisu treści
B4: Tabela 6.1. Niewypłacalności w 2017 roku
B6: Lp. | C6: Nazwa Firmy | F6: Numer Ewidencyjny | I6: Wysokość zabezpieczenia finansowego | L6: Województwo | O6: Data
B8: 1. | C8: Biuro Turystyczno-Usługowe "GRO-TOUR" W. T. Piotrkiewicz Spółka jawna | F8: 8234 | I8: 28 000 EUR | L8: pomorskie | O8: lipiec 2017
B9: 2. | C9: Centrum Szkoleniowo-Konsultacyjne Logos Wiesław Scheller | F9: 4566 | I9: 7 000 EUR | L9: kujawsko-pomorskie | O9: lipiec 2017
B11: Tabela 6.2. Niewypłacalności w 2018 roku
B13: Lp. | C13: Nazwa Firmy | F13: Numer Ewidencyjny | I13: Wysokość zabezpieczenia finansowego | L13: Województwo | O13: Data
B15: 1. | C15: REJSCLUB.PL Zbigniew Kąkol | F15: 6934 | I15: 830 000 PLN | L15: pomorskie | O15: luty 2018
B16: 2. | C16: Biuro Turystyczno – Usługowe GROMADA GORZÓW Reneusz Wachol | F16: 4281 | I16: 185 459,40 PLN | L16: lubuskie | O16: kwiecień 2018
B17: 3. | C17: MARTIN Przedsiębiorstwo Turystyczne Beata Tyczyńska Paweł Tyczyński sp. j. | F17: 266 | I17: 123 639,60 PLN | L17: wielkopolskie | O17: czerwiec 2018
B18: 4. | C18: Millennium Travel International Sp. z o.o. | F18: 7334 | I18: 1 200 000 PLN | L18: dolnośląskie | O18: wrzesień 2018
B20: Tabela 6.3. Niewypłacalności w 2019 roku
B22: Lp. | C22: Nazwa Firmy | F22: Numer Ewidencyjny | I22: Wysokość zabezpieczenia finansowego | L22: Województwo | O22: Data
B24: 1. | C24: BIURO TURYSTYCZNE "MISTRAL" DANIEL WOJNICKI SPÓŁKA JAWNA | F24: 4642 | I24: 550 000 PLN | L24: śląskie | O24: luty 2019
B25: 2. | C25: BIURO TURYSTYKI "WYCIECZKA" JERZY SOCHACKI | F25: 186 | I25: 208 505 PLN | L25: łódzkie | O25: luty 2019
B26: 3. | C26: Dybowski Tomasz Przedsiębiorstwo Handlowo Usługowe VOYAGER, Biuro Turystyczne VOYAGER | F26: 3134 | I26: 116 762,80 PLN | L26: kujawsko-pomorskie | O26: luty 2019
B27: 4. | C27: ROBERT OCHWAT OLIMP-CENTRUM PROMOCJI I LAST MINUTE | F27: 4687 | I27: 1 800 000 PLN | L27: małopolskie | O27: marzec 2019
B28: 5. | C28: BIURO PODRÓŻY "MALTUR" Andrzej Kiermasz | F28: 5653 | I28: 331 177,5 PLN | L28: pomorskie | O28: maj 2019
B29: 6. | C29: MEDITERRANEUM SPÓŁKA Z OGRANICZONĄ ODPOWIEDZIALNOŚCIĄ | F29: 1299 | I29: 1 260 000 PLN | L29: wielkopolskie | O29: lipiec 2019
B30: 7. | C30: KUCIERSKI ŁUKASZ "STEJA TRAVEL" | F30: 4439 | I30: 911 939,20 PLN | L30: śląskie | O30: lipiec 2019
B31: 8. | C31: KAMA TOURS Sławomir Dziewulski | F31: 22710 | I31: 215 080 PLN | L31: lubelskie | O31: lipiec 2019
B32: 9. | C32: NECKERMANN POLSKA BIURO PODRÓŻY SPÓŁKA Z OGRANICZONĄ ODPOWIEDZIALNOŚCIĄ | F32: 617 | I32: 25 000 000 PLN | L32: mazowieckie | O32: wrzesień 2019
B33: 10. | C33: BIURO PODRÓŻY JADENAWYCIECZKE.PL ALEKSANDRA OBRĘBSKA | F33: 24547 | I33: 215 080 PLN | L33: łódzkie | O33: październik 2019
B34: 11. | C34: BIURO PODRÓŻY AKTIV TOURS REISEN SPÓŁKA Z OGRANICZONĄ ODPOWIEDZIALNOŚCIĄ | F34: 5783 | I34: 405 000 PLN | L34: pomorskie | O34: grudzień 2019
B36: Tabela 6.4. Niewypłacalności w 2020 roku
B38: Lp. | C38: Nazwa Firmy | F38: Numer Ewidencyjny | I38: Wysokość zabezpieczenia finansowego | L38: Województwo | O38: Data
B40: 1. | C40: TOURASIA POLSKA SPÓŁKA AKCYJNA | F40: 10570 | I40: 607 800 PLN | L40: mazowieckie | O40: kwiecień 2020
B41: 2. | C41: AKTYWNI + LESZEK KOBYŁECKI | F41: 10089 | I41: 32 262 PLN | L41: mazowieckie | O41: czerwiec 2020
B42: 3. | C42: BIURO PODRÓŻY CELTUR KATARZYNA UMŻYŃSKA | F42: 3707 | I42: 120 444,8 PLN | L42: kujawsko-pomorskie | O42: czerwiec 2020
B43: 4. | C43: Biuro Podróży RUTA TOUR s.c. Zuzanna Zygmunt Tomasz Ruta | F43: 173 | I43: 215 080 PLN | L43: wielkopolskie | O43: lipiec 2020
B44: 5. | C44: Biuro Turystyczne Ka-Ma Katarzyna Stein | F44: 9080 | I44: 180 667 PLN | L44: śląskie | O44: sierpień 2020
B45: 6. | C45: PRESTIGE TRAVEL Joanna Dołmatow | F45: 9028 | I45: 19 357 PLN | L45: podlaskie | O45: wrzesień 2020
B46: 7. | C46: Biuro Podróży HERMES TRAVEL Zawada Katarzyna Monika | F46: 9236 | I46: 350 000 PLN | L46: mazowieckie | O46: listopad 2020
B47: 8. | C47: Aleksandra Zakroczymska AGENCJA TURYSTYCZNA TRAF II | F47: 9028 | I47: 19 157 PLN | L47: śląskie | O47: listopad 2020
B49: Tabela 6.5. Niewypłacalności w 2021 roku
B51: Lp. | C51: Nazwa Firmy | F51: Numer Ewidencyjny | I51: Wysokość zabezpieczenia finansowego | L51: Województwo | O51: Data
B53: 1. | C53: BAJA TEAM Jarosław Lewiński | F53: 7796 | I53: 322 620 PLN | L53: kujawsko-pomorskie | O53: styczeń 2021
B54: 2. | C54: Grupa TUR-MEDIA sp. z o.o. | F54: 21604 | I54: 32 262 PLN | L54: świętokrzyskie | O54: maj 2021
B55: 3. | C55: Mouzenidis Travel sp. z o.o. | F55: 7933 | I55: 840 000 PLN | L55: mazowieckie | O55: wrzesień 2021
B56: 4. | C56: Przedsiębiorstwo Turystyczno Handlowe "Janter" sp. z o.o. | F56: 3718 | I56: 280 000 PLN | L56: mazowieckie | O56: październik 2021
B57: 5. | C57: Fundacja Harcerstwa Centrum Wychowania Morskiego ZHP | F57: 11432 | I57: 191 037 PLN | L57: pomorskie | O57: październik 2021
B58: 6. | C58: Biuro Podróży "Mistral" sp. z o.o. | F58: 21241 | I58: 375 309 PLN | L58: śląskie | O58: listopad 2021
B59: 7. | C59: Biuro Podróży Gold Tour sp. z o.o. | F59: 9298 | I59: 810 000 PLN | L59: opolskie | O59: grudzień 2021
B60: 8. | C60: DAPIK Sp. z o.o. | F60: 11047 | I60: 48 000 PLN | L60: mazowieckie | O60: grudzień 2021
B63: Tabela 6.6. Niewypłacalności w 2022 roku
B65: Lp. | C65: Nazwa Firmy | F65: Numer Ewidencyjny | I65: Wysokość zabezpieczenia finansowego | L65: Województwo | O65: Data
B67: 1. | C67: INTER BLOCK LTD sp. z o.o. | F67: 10574 | I67: 119 198 PLN | L67: mazowieckie | O67: styczeń 2022
