Workbook

Sheet Strona tytułowa
B22: BIULETYN INFORMACYJNY
B23: TURYSTYCZNY FUNDUSZ GWARANCYJNY
B24: IV kwartał 2021 r.

Sheet Spis treści
B3: SPIS TREŚCI
B7: Nota metodyczna
B8: 1. Liczba deklaracji
B9: 2. Liczba umów OT
B10: 3. Liczba podróżnych OT
B11: 4. Liczba umów i podróżnych PUNPUT
B12: 5. Liczba umów w podziale na miesiące
B13: 6. Niewypłacalności

Sheet Nota metodyczna
B2: Powrót do spisu treści
B4: Nota metodyczna
B6: 1. Przedstawione zestawienie przygotowane zostało na podstawie danych zawartych w bazie danych Turystycznego Funduszu Gwarancyjnego. Turystyczny Fundusz Gwarancyjny działa na mocy ustawy z dnia 24 listopada 2017 r. o imprezach turystycznych i powiązanych usługach turystycznych (Dz. U. z 2017 r. poz. 2361 z późn. zm.). Turystyczny Fundusz Gwarancyjny gromadzi dane dotyczące liczby i rodzaju zawartych w danym miesiącu umów o udział w imprezie turystycznej oraz umów z przedsiębiorcą ułatwiającym nabywanie powiązanych usług turystycznych oraz liczby podróżnych objętych tymi umowami. Dodatkowo gromadzone są informacje na temat liczby umów i liczby podróżnych, których imprezy turystyczne zostały odwołane przez organizatora turystyki z powodu niewystarczającej liczby zgłoszeń, jeżeli realizacja imprezy turystycznej była uzależniona od liczby zgłoszeń, podróżnych, którzy rozwiązali umowę o udział w imprezie turystycznej lub umowę zawartą z przedsiębiorcą ułatwiającym nabywanie powiązanych usług turystycznych lub odstąpili od takiej umowy, a także podróżnych, których umowy zostały zmienione w sposób umożliwiający zarachowanie odprowadzonej składki.
B7: 2. Dane gromadzone są w bazie Turystycznego Funduszu Gwarancyjnego od 01.12.2016 r.
B8: 3. Niniejszy biuletyn przedstawia stan bazy danych TFG aktualny na dzień przygotowania biuletynu. Zawarte w biuletynie informacje mogą różnić się w kolejnych wydaniach biuletynu ze względu na ciągły proces uzupełniania deklaracji przez przedziębiorców turystycznych i poprawiania deklaracji będący efektem kontroli przeprowadzanych przez Marszałków Województw.
B9: 4. Przedstawione zestawienia przygotowane zostały według stanu bazy na dzień 26.01.2022 r.
B10: 5. Użyte pojęcia oznaczają:
B12: Do 30 czerwca 2018 r. obowiązywało rozróżnienie zakresu terytorialnego wykonywanej działalności na 4 działy:
B13: -- Dział I - Imprezy turystyczne na terytorium państw europejskich i pozaeuropejskich z wykorzystaniem transportu lotniczego w ramach przewozu czarterowego, z wyłączeniem pkt 4
B14: -- Dział II - Imprezy turystyczne na terytorium państw pozaeuropejskich z wykorzystaniem innego środka transportu niż transport lotniczy w ramach przewozu czarterowego
B15: -- Dział III - Imprezy turystyczne na terytorium państw europejskich z wykorzystaniem innego środka transportu niż transport lotniczy w ramach przewozu czarterowego, z wyłączeniem pkt 4
B16: -- Dział IV - Imprezy turystyczne na terytorium krajów mających lądową granicę z RP, a w przypadku Federacji Rosyjskiej – w obrębie obszaru obwodu kaliningradzkiego oraz imprezy turystyczne na terytorium RP, w tym imprezy zagranicznej turystyki przyjazdowej
... B34: -- korekta - dane dotyczące liczby umów i liczby podróżnych, których imprezy turystyczne zostały odwołane przez organizatora turystyki z powodu niewystarczającej liczby zgłoszeń, jeżeli realizacja imprezy turystycznej była uzależniona od liczby zgłoszeń, podróżnych, którzy rozwiązali umowę o udział w imprezie turystycznej lub umowę zawartą z przedsiębiorcą ułatwiającym nabywanie powiązanych usług turystycznych lub odstąpili od takiej umowy, a także podróżnych, których umowy zostały zmienione w sposób umożliwiający zarachowanie odprowadzonej składki.

Sheet 1. Liczba deklaracji
B2: Powrót do spisu treści
B4: Tabela 1.1. Liczba deklaracji złożonych za poszczególne kwartały
C6: Q1 | D6: Q2 | E6: Q3 | F6: Q4
B8: 2017 | C8: 11169 | D8: 11565 | E8: 11650 | F8: 11556
B9: 2018 | C9: 11628 | D9: 12067 | E9: 12182 | F9: 12054
B10: 2019 | C10: 12185 | D10: 12349 | E10: 12350 | F10: 12126
B11: 2020 | C11: 11945 | D11: 11159 | E11: 11024 | F11: 10543
B12: 2021 | C12: 10154 | D12: 10211 | E12: 10257 | F12: 8118
B14: Rysunek 1.1. Liczba deklaracji złożonych za poszczególne kwartały z linią trendu.
B15: Trend 2018 | C15: 1 | D15: =D9/C9 -> 1.0377537 | E15: =E9/D9 -> 1.0095301 | F15: =F9/E9 -> 0.98949269
B16: Trend 2019 | C16: 1 | D16: =D10/C10 -> 1.0134592 | E16: =E10/D10 -> 1.000081 | F16: =F10/E10 -> 0.98186235
B17: Trend 2020 | C17: 1 | D17: =D11/C11 -> 0.93419841 | E17: =E11/D11 -> 0.98790214 | F17: =F11/E11 -> 0.95636792
I21: Q1 2017 | J21: Q2 2017 | K21: Q3 2017 | L21: Q4 2017 | M21: Q1 2018
I22: 10981 | J22: 11174 | K22: 11123 | L22: 10900 | M22: 10670
J23: =CONCATENATE(J21,"/",I21) -> Q2 2017/Q1 2017 | K23: =CONCATENATE(K21,"/",J21) -> Q3 2017/Q2 2017 | L23: =CONCATENATE(L21,"/",K21) -> Q4 2017/Q3 2017 | M23: =CONCATENATE(M21,"/",L21) -> Q1 2018/Q4 2017
I24: 1 | J24: =J22/I22 -> 1.0175758 | K24: =K22/J22 -> 0.99543583 | L24: =L22/K22 -> 0.97995145 | M24: =M22/L22 -> 0.97889908
I25: =I22/4*3 -> 8235.75 | J25: =J22/4*3 -> 8380.5 | K25: =K22/4*3 -> 8342.25 | L25: =L22/4*3 -> 8175 | M25: =M22/4*3 -> 8002.5

Sheet 2. Umowy OT
B2: Powrót do spisu treści | M2: Tabela 2.2. Liczba umów OT od 1. lipca 2018 roku w podziale na działy, kwartały oraz przekazane i korekta
B4: Tabela 2.1. Liczba umów do 30. czerwca 2018 roku w podziale na działy, kwartały oraz przekazane i korekta | O4: Q3 2018 | P4: Q4 2018 | Q4: Q1 2019 | R4: Q2 2019 | S4: Q3 2019 | T4: Q4 2019 | U4: Q1 2020 | V4: Q2 2020 | W4: Q3 2020 | X4: Q4 2020 | Y4: Q1 2021 | Z4: Q2 2021 | AA4: Q3 2021 | AB4: Q4 2021
M5: Przekazane | N5: dział I | O5: 421411 | P5: 222475 | Q5: 278639 | R5: 285871 | S5: 435692 | T5: 231759 | U5: 207268 | V5: 64748 | W5: 186166 | X5: 47442 | Y5: 86121 | Z5: 269622 | AA5: 334126 | AB5: 161330
D6: Q1 2017 | E6: Q2 2017 | F6: Q3 2017 | G6: Q4 2017 | H6: Q1 2018 | I6: Q2 2018 | N6: dział II | O6: 18439 | P6: 23737 | Q6: 31802 | R6: 23340 | S6: 26838 | T6: 32706 | U6: 23122 | V6: 3252 | W6: 5381 | X6: 4284 | Y6: 8189 | Z6: 12818 | AA6: 15772 | AB6: 18234
N7: dział III | O7: 1041 | P7: 1267 | Q7: 1853 | R7: 1155 | S7: 1675 | T7: 1481 | U7: 993 | V7: 187 | W7: 297 | X7: 436 | Y7: 677 | Z7: 661 | AA7: 738 | AB7: 1010
B8: Przekazane | C8: dział I | D8: 174061 | E8: 215929 | F8: 307370 | G8: 209618 | H8: 259498 | I8: 291188 | N8: dział IV | O8: 71490 | P8: 61077 | Q8: 98846 | R8: 86732 | S8: 75789 | T8: 68004 | U8: 66151 | V8: 7101 | W8: 24748 | X8: 7812 | Y8: 12112 | Z8: 36262 | AA8: 54320 | AB8: 28509
C9: dział II | D9: 18086 | E9: 13965 | F9: 15094 | G9: 21000 | H9: 26704 | I9: 19622 | N9: dział V | O9: 5542 | P9: 8145 | Q9: 7278 | R9: 3424 | S9: 7508 | T9: 9870 | U9: 5541 | V9: 679 | W9: 4701 | X9: 2897 | Y9: 6619 | Z9: 4224 | AA9: 8240 | AB9: 9627
C10: dział III | D10: 100022 | E10: 88263 | F10: 83575 | G10: 66859 | H10: 102221 | I10: 89514 | N10: dział VI | O10: 241648 | P10: 181520 | Q10: 241307 | R10: 323857 | S10: 244957 | T10: 177562 | U10: 181125 | V10: 61358 | W10: 118785 | X10: 31307 | Y10: 84381 | Z10: 169289 | AA10: 286153 | AB10: 64273
C11: dział IV | D11: 231871 | E11: 320266 | F11: 312708 | G11: 235482 | H11: 281462 | I11: 368378 | M11: Korekta | N11: dział I | O11: 12771 | P11: 8308 | Q11: 13604 | R11: 20806 | S11: 12517 | T11: 9360 | U11: 61326 | V11: 196949 | W11: 103009 | X11: 17952 | Y11: 25692 | Z11: 56095 | AA11: 27266 | AB11: 8535
B12: Korekta | C12: dział I | D12: 3389 | E12: 9352 | F12: 7817 | G12: 6555 | H12: 9823 | I12: 20570 | N12: dział II | O12: 1726 | P12: 1799 | Q12: 2291 | R12: 2144 | S12: 2527 | T12: 2509 | U12: 9434 | V12: 10148 | W12: 8886 | X12: 3423 | Y12: 3183 | Z12: 3629 | AA12: 3444 | AB12: 2768
C13: dział II | D13: 652 | E13: 981 | F13: 1191 | G13: 1024 | H13: 1658 | I13: 1763 | N13: dział III | O13: 13 | P13: 33 | Q13: 40 | R13: 55 | S13: 52 | T13: 91 | U13: 219 | V13: 222 | W13: 342 | X13: 121 | Y13: 147 | Z13: 68 | AA13: 104 | AB13: 132
C14: dział III | D14: 2585 | E14: 7155 | F14: 5005 | G14: 1850 | H14: 3986 | I14: 8285 | N14: dział IV | O14: 6107 | P14: 2267 | Q14: 5672 | R14: 9178 | S14: 7234 | T14: 2280 | U14: 20508 | V14: 22576 | W14: 18015 | X14: 10778 | Y14: 6327 | Z14: 8985 | AA14: 6204 | AB14: 2065
C15: dział IV | D15: 4128 | E15: 9808 | F15: 10160 | G15: 4025 | H15: 5105 | I15: 20961 | N15: dział V | O15: 71 | P15: 183 | Q15: 191 | R15: 77 | S15: 143 | T15: 260 | U15: 2483 | V15: 838 | W15: 741 | X15: 1243 | Y15: 2711 | Z15: 549 | AA15: 286 | AB15: 396
N16: dział VI | O16: 7221 | P16: 4118 | Q16: 4768 | R16: 8637 | S16: 7228 | T16: 3753 | U16: 10476 | V16: 27058 | W16: 14769 | X16: 12031 | Y16: 4500 | Z16: 6680 | AA16: 6032 | AB16: 2637
B18: Rysunek 2.1. Liczba umów do 30. czerwca 2018 roku w podziale na działy i kwartały | M18: Rysunek 2.2. Liczba umów OT od 1. lipca 2018 roku w podziale na działy i kwartały
C28: umowy:

Sheet 3. Podróżni OT
B2: Powrót do spisu treści | M2: Tabela 3.2. Liczba Podróżnych OT od 1. lipca 2018 roku w podziale na działy, kwartały oraz przekazane i korekta
B4: Tabela 3.1. Liczba Podróżnych do 30. czerwca 2018 roku w podziale na działy, kwartały oraz przekazane i korekta | O4: Q3 2018 | P4: Q4 2018 | Q4: Q1 2019 | R4: Q2 2019 | S4: Q3 2019 | T4: Q4 2019 | U4: Q1 2020 | V4: Q2 2020 | W4: Q3 2020 | X4: Q4 2020 | Y4: Q1 2021 | Z4: Q2 2021 | AA4: Q3 2021 | AB4: Q4 2021
M5: Przekazane | N5: dział I | O5: 1067957 | P5: 621369 | Q5: 781061 | R5: 762774 | S5: 1125525 | T5: 641010 | U5: 575733 | V5: 186317 | W5: 479680 | X5: 118622 | Y5: 228216 | Z5: 715655 | AA5: 833412 | AB5: 432274
D6: Q1 2017 | E6: Q2 2017 | F6: Q3 2017 | G6: Q4 2017 | H6: Q1 2018 | I6: Q2 2018 | N6: dział II | O6: 41954 | P6: 56672 | Q6: 73408 | R6: 52539 | S6: 61288 | T6: 74458 | U6: 54842 | V6: 6822 | W6: 11580 | X6: 9354 | Y6: 17333 | Z6: 28725 | AA6: 35711 | AB6: 43077
N7: dział III | O7: 2212 | P7: 2468 | Q7: 2888 | R7: 2223 | S7: 3414 | T7: 2979 | U7: 1869 | V7: 311 | W7: 505 | X7: 803 | Y7: 1205 | Z7: 1191 | AA7: 1384 | AB7: 1861
B8: Przekazane | C8: dział I | D8: 482512 | E8: 565322 | F8: 781733 | G8: 575281 | H8: 718475 | I8: 767224 | N8: dział IV | O8: 178315 | P8: 184433 | Q8: 258436 | R8: 217404 | S8: 192319 | T8: 201960 | U8: 160273 | V8: 14900 | W8: 50132 | X8: 18059 | Y8: 20595 | Z8: 73028 | AA8: 122342 | AB8: 64348
C9: dział II | D9: 39779 | E9: 31974 | F9: 36559 | G9: 50487 | H9: 59297 | I9: 45943 | N9: dział V | O9: 15380 | P9: 23840 | Q9: 20168 | R9: 10220 | S9: 21426 | T9: 28133 | U9: 15665 | V9: 1713 | W9: 10815 | X9: 6980 | Y9: 12610 | Z9: 9413 | AA9: 20952 | AB9: 25810
C10: dział III | D10: 242322 | E10: 214418 | F10: 198677 | G10: 185493 | H10: 262418 | I10: 225292 | N10: dział VI | O10: 786326 | P10: 782721 | Q10: 853336 | R10: 1098702 | S10: 771199 | T10: 727951 | U10: 540308 | V10: 110853 | W10: 304451 | X10: 76871 | Y10: 119437 | Z10: 361821 | AA10: 872021 | AB10: 356192
C11: dział IV | D11: 834979 | E11: 1188360 | F11: 873004 | G11: 811907 | H11: 936309 | I11: 1322487.2 | M11: Korekta | N11: dział I | O11: 31385 | P11: 23581 | Q11: 37587 | R11: 54672 | S11: 32092 | T11: 28331 | U11: 167384 | V11: 585887 | W11: 289530 | X11: 46268 | Y11: 70750 | Z11: 156566 | AA11: 70624 | AB11: 21594
B12: Korekta | C12: dział I | D12: 9403 | E12: 23095 | F12: 20411 | G12: 17623 | H12: 25557 | I12: 49332 | N12: dział II | O12: 2949 | P12: 3353 | Q12: 4078 | R12: 4125 | S12: 4480 | T12: 4688 | U12: 20730 | V12: 23811 | W12: 19948 | X12: 7697 | Y12: 7025 | Z12: 8480 | AA12: 6815 | AB12: 6149
C13: dział II | D13: 1200 | E13: 1899 | F13: 2047 | G13: 1889 | H13: 2916 | I13: 3186 | N13: dział III | O13: 25 | P13: 67 | Q13: 65 | R13: 89 | S13: 90 | T13: 172 | U13: 434 | V13: 341 | W13: 510 | X13: 245 | Y13: 213 | Z13: 122 | AA13: 165 | AB13: 238
C14: dział III | D14: 5134 | E14: 12917 | F14: 9546 | G14: 4018 | H14: 8597 | I14: 18006 | N14: dział IV | O14: 12113 | P14: 5137 | Q14: 13045 | R14: 20451 | S14: 16293 | T14: 5303 | U14: 57588 | V14: 72054 | W14: 44702 | X14: 26437 | Y14: 14626 | Z14: 18540 | AA14: 12854 | AB14: 5209
C15: dział IV | D15: 11710 | E15: 23801 | F15: 24520 | G15: 10021 | H15: 13108 | I15: 41959.23 | N15: dział V | O15: 184 | P15: 604 | Q15: 484 | R15: 207 | S15: 430 | T15: 760 | U15: 6917 | V15: 2393 | W15: 2319 | X15: 3922 | Y15: 6501 | Z15: 1555 | AA15: 606 | AB15: 1046
N16: dział VI | O16: 13913 | P16: 10655 | Q16: 11351 | R16: 20354 | S16: 14048 | T16: 9899 | U16: 59812 | V16: 165153 | W16: 49437 | X16: 30155 | Y16: 10232 | Z16: 16526 | AA16: 12763 | AB16: 5444
B18: Rysunek 3.1. Liczba Podróżnych do 30. czerwca 2018 roku w podziale na działy i kwartały | M18: Rysunek 3.2. Liczba Podróżnych OT od 1. lipca 2018 roku w podziale na działy i kwartały
X26: Q2 2020
AC29: Q1 2021
N30: umowy: | AC30: 237476
AC31: 18160
AC32: 1115
AC33: 20202
AC34: 11594
AC35: 106807

Sheet 4. Umowy i Podróżni PUNPUT
B2: Powrót do spisu treści
B4: Tabela 4.1. Liczba umów PUNPUT w podziale na działy, kwartały oraz przekazane i korekta | S4: Tabela 4.2. Liczba Podróżnych PUNPUT w podziale na działy, kwartały oraz przekazane i korekta
D6: Q3 2018 | E6: Q4 2018 | F6: Q1 2019 | G6: Q2 2019 | H6: Q3 2019 | I6: Q4 2019 | J6: Q1 2020 | K6: Q2 2020 | L6: Q3 2020 | M6: Q4 2020 | N6: Q1 2021 | O6: Q2 2021 | P6: Q3 2021 | Q6: Q4 2021 | U6: Q3 2018 | V6: Q4 2018 | W6: Q1 2019 | X6: Q2 2019 | Y6: Q3 2019 | Z6: Q4 2019 | AA6: Q1 2020 | AB6: Q2 2020 | AC6: Q3 2020 | AD6: Q4 2020 | AE6: Q1 2021 | AF6: Q2 2021 | AG6: Q3 2021 | AH6: Q4 2021
B7: Przekazane | C7: dział I | D7: 258 | E7: 360 | F7: 513 | G7: 891 | H7: 1119 | I7: 1981 | J7: 678 | K7: 181 | L7: 346 | M7: 292 | N7: 221 | O7: 424 | P7: 382 | Q7: 271 | S7: Przekazane | T7: dział I | U7: 466 | V7: 686 | W7: 931 | X7: 1649 | Y7: 2026 | Z7: 1625 | AA7: 1203 | AB7: 300 | AC7: 564 | AD7: 474 | AE7: 335 | AF7: 732 | AG7: 628 | AH7: 530
C8: dział II | D8: 3 | E8: 2 | F8: 1 | G8: 4 | H8: 7 | I8: 23 | J8: 4 | K8: 0 | L8: 0 | M8: 1 | N8: 2 | O8: 1 | P8: 3 | Q8: 4 | T8: dział II | U8: 3 | V8: 8 | W8: 2 | X8: 5 | Y8: 14 | Z8: 33 | AA8: 9 | AB8: 0 | AC8: 0 | AD8: 4 | AE8: 7 | AF8: 2 | AG8: 13 | AH8: 12
C9: dział III | D9: 869 | E9: 1333 | F9: 1557 | G9: 2626 | H9: 2686 | I9: 2098 | J9: 1610 | K9: 340 | L9: 1278 | M9: 362 | N9: 215 | O9: 855 | P9: 1231 | Q9: 559 | T9: dział III | U9: 1684 | V9: 2294 | W9: 3125 | X9: 5094 | Y9: 5034 | Z9: 3958 | AA9: 3165 | AB9: 691 | AC9: 2473 | AD9: 543 | AE9: 413 | AF9: 1691 | AG9: 2666 | AH9: 994
C10: dział IV | D10: 14 | E10: 170 | F10: 4 | G10: 158 | H10: 153 | I10: 103 | J10: 22 | K10: 42 | L10: 122 | M10: 69 | N10: 4 | O10: 39 | P10: 118 | Q10: 3 | T10: dział IV | U10: 67 | V10: 288 | W10: 92 | X10: 289 | Y10: 532 | Z10: 204 | AA10: 59 | AB10: 64 | AC10: 598 | AD10: 220 | AE10: 17 | AF10: 52 | AG10: 438 | AH10: 9
C11: dział V | D11: 497 | E11: 584 | F11: 729 | G11: 1353 | H11: 1283 | I11: 969 | J11: 792 | K11: 309 | L11: 609 | M11: 85 | N11: 156 | O11: 615 | P11: 1849 | Q11: 381 | T11: dział V | U11: 1747 | V11: 2004 | W11: 1845 | X11: 5842 | Y11: 3004 | Z11: 4315 | AA11: 2534 | AB11: 393 | AC11: 1495 | AD11: 520 | AE11: 584 | AF11: 1968 | AG11: 6192 | AH11: 2473
B12: Korekta | C12: dział I | D12: 0 | E12: 0 | F12: 0 | G12: 13 | H12: 24 | I12: 23 | J12: 72 | K12: 69 | L12: 42 | M12: 48 | N12: 26 | O12: 75 | P12: 37 | Q12: 26 | S12: Korekta | T12: dział I | U12: 0 | V12: 0 | W12: 0 | X12: 26 | Y12: 52 | Z12: 46 | AA12: 155 | AB12: 146 | AC12: 78 | AD12: 101 | AE12: 50 | AF12: 133 | AG12: 61 | AH12: 48
C13: dział II | D13: 0 | E13: 0 | F13: 0 | G13: 0 | H13: 0 | I13: 0 | J13: 0 | K13: 0 | L13: 0 | M13: 0 | N13: 0 | O13: 0 | P13: 0 | Q13: 0 | T13: dział II | U13: 0 | V13: 0 | W13: 0 | X13: 0 | Y13: 0 | Z13: 0 | AA13: 0 | AB13: 0 | AC13: 0 | AD13: 0 | AE13: 0 | AF13: 0 | AG13: 0 | AH13: 0
C14: dział III | D14: 11 | E14: 39 | F14: 0 | G14: 43 | H14: 33 | I14: 37 | J14: 171 | K14: 296 | L14: 149 | M14: 155 | N14: 108 | O14: 182 | P14: 113 | Q14: 74 | T14: dział III | U14: 11 | V14: 39 | W14: 0 | X14: 83 | Y14: 68 | Z14: 76 | AA14: 342 | AB14: 731 | AC14: 372 | AD14: 311 | AE14: 208 | AF14: 352 | AG14: 253 | AH14: 138
C15: dział IV | D15: 0 | E15: 0 | F15: 0 | G15: 1 | H15: 0 | I15: 0 | J15: 0 | K15: 16 | L15: 0 | M15: 14 | N15: 0 | O15: 0 | P15: 0 | Q15: 0 | T15: dział IV | U15: 0 | V15: 0 | W15: 0 | X15: 3 | Y15: 0 | Z15: 0 | AA15: 0 | AB15: 24 | AC15: 0 | AD15: 14 | AE15: 0 | AF15: 0 | AG15: 0 | AH15: 0
C16: dział V | D16: 0 | E16: 78 | F16: 2 | G16: 84 | H16: 24 | I16: 18 | J16: 119 | K16: 57 | L16: 34 | M16: 62 | N16: 11 | O16: 46 | P16: 162 | Q16: 117 | T16: dział V | U16: 0 | V16: 108 | W16: 2 | X16: 435 | Y16: 38 | Z16: 26 | AA16: 302 | AB16: 131 | AC16: 404 | AD16: 103 | AE16: 18 | AF16: 172 | AG16: 598 | AH16: 422
B18: Rysunek 4.1. Liczba umów PUNPUT w podziale na działy i kwartały | S18: Rysunek 4.2. Liczba Podróżnych PUNPUT w podziale na działy i kwartały

Sheet 5. Liczba umów na miesiąc
D1: 447916 | E1: 479887 | F1: 671789 | G1: 554977 | H1: 713565 | I1: 731356 | J1: 672363 | K1: 634697 | L1: 582507 | M1: 624080 | N1: 535147
B2: Powrót do spisu treści | D2: 658637 | E2: 604364 | F2: 713107 | G2: 723949 | H2: 815203.23 | I2: 820510 | J2: 737535 | K2: 677634 | L2: 679905 | M2: 639040 | N2: 559103 | O2: 1385809 | Q2: Suma z SUM(T2.LICZBAUMOW) | R2: Etykiety kolumn
D3: 658024 | E3: 624416 | F3: 707323 | G3: 597294 | H3: 790250 | I3: 747218 | J3: 754610 | K3: 661267 | L3: 729255 | M3: 650967 | O3: 426707 | Q3: Etykiety wierszy | R3: 1 | S3: 2 | T3: 3
B4: Tabela 5.1. Łączna liczba umów w podziale na miesiące
C6: Styczeń | D6: Luty | E6: Marzec | F6: Kwiecień | G6: Maj | H6: Czerwiec | I6: Lipiec | J6: Sierpień | K6: Wrzesień | L6: Październik | M6: Listopad | N6: Grudzień
B8: 2017 | C8: 156414 | D8: 166801 | E8: 200825 | F8: 176969 | G8: 215207 | H8: 246247 | I8: 274829 | J8: 250778 | K8: 193140 | L8: 197324 | M8: 177675 | N8: 157960
B9: 2018 | C9: 237927 | D9: 205992 | E9: 225966 | F9: 242951 | G9: 251498 | H9: 274253 | I9: 286581 | J9: 257698 | K9: 216933 | L9: 183664 | M9: 163618 | N9: 153388
B10: 2019 | C10: 229442 | D10: 206834 | E10: 226253 | F10: 199836 | G10: 275576 | H10: 253999 | I10: 301966 | J10: 253965 | K10: 241776 | L10: 193841 | M10: 173384 | N10: 159331
B11: 2020 | C11: 250679 | D11: 185927 | E11: 50700 | F11: 9936 | G11: 33930 | H11: 94331 | I11: 144403 | J11: 110030 | K11: 88000 | L11: 36134 | M11: 23145 | N11: 35708
B12: 2021 | C12: 50013 | D12: 70799 | E12: 77885 | F12: 84399 | G12: 173550 | H12: 236861 | I12: 263282 | J12: 270727 | K12: 168923 | L12: 121113 | M12: 92653 | N12: 70435 | Q12: =O12-P12 -> 0
B14: Rysunek 5.1. Średnia liczba Podróżnych przypadająca na jedną umowę w podziale na miesiące | M14: Rysunek 5.2. Łączna liczba umów w podziale na miesiące
B24: Styczeń | C24: Luty | D24: Marzec | E24: Kwiecień | F24: Maj | G24: Czerwiec | H24: Lipiec | I24: Sierpień | J24: Wrzesień | K24: Październik | L24: Listopad | M24: Grudzień
A25: 2017 | B25: 156414 | C25: 166801 | D25: 200825 | E25: 176969 | F25: 215207 | G25: 246247 | H25: 274829 | I25: 250778 | J25: 193140 | K25: 197324 | L25: 177675 | M25: 157960
A26: 2018 | B26: 237927 | C26: 205992 | D26: 225966 | E26: 242951 | F26: 251498 | G26: 274253 | H26: 286581 | I26: 257698 | J26: 216933 | K26: 183664 | L26: 163618 | M26: 153388
A27: 2019 | B27: 229442 | C27: 206834 | D27: 226253 | E27: 199836 | F27: 275576 | G27: 253999 | H27: 301966 | I27: 253965 | J27: 241776 | K27: 193841 | L27: 173384 | M27: 159331
A28: 2020 | B28: 250679 | C28: 185927 | D28: 50700 | E28: 9936 | F28: 33930 | G28: 94331 | H28: 144403 | I28: 110030 | J28: 88000 | K28: 36134 | L28: 23145 | M28: 35708
A29: 2021 | B29: 50013 | C29: 70799 | D29: 77885 | E29: 84399 | F29: 173550 | G29: 236861 | H29: 263282 | I29: 270727 | J29: 168923 | K29: 121113 | L29: 92653 | M29: 70435
A30: 2017 | B30: 447916 | C30: 479887 | D30: 671789 | E30: 554977 | F30: 713637 | G30: 731460 | H30: 672488 | I30: 634767 | J30: 582718 | K30: 624082 | L30: 535147 | M30: 463939
A31: 2018 | B31: 658843 | C31: 604431 | D31: 713225 | E31: 724337 | F31: 815513.23 | G31: 821096 | H31: 738857 | I31: 678407 | J31: 678847 | K31: 639552 | L31: 560018 | M31: 477213
A32: 2019 | B32: 660129 | C32: 625717 | D32: 709446 | E32: 600379 | F32: 800725 | G32: 755637 | H32: 762468 | I32: 676414 | J32: 746899 | K32: 668908 | L32: 544880 | M32: 472838
A33: 2020 | B33: 686463 | C33: 534045 | D33: 135152 | E33: 22429 | F33: 87966 | G33: 211969 | H33: 350082 | I33: 277434 | J33: 234777 | K33: 95644 | L33: 56498 | M33: 80308
A34: 2021 | B34: 104081 | C34: 144923 | D34: 151748 | E34: 174957 | F34: 407871 | G34: 611450 | H34: 662270 | I34: 700687 | J34: 532802 | K34: 446275 | L34: 290679 | M34: 190626
A35: 2017 | B35: =B30/B25 -> 2.8636567 | C35: =C30/C25 -> 2.8770031 | D35: =D30/D25 -> 3.3451463 | E35: =E30/E25 -> 3.1360125 | F35: =F30/F25 -> 3.3160492 | G35: =G30/G25 -> 2.9704321 | H35: =H30/H25 -> 2.4469325 | I35: =I30/I25 -> 2.5311909 | ... M35: =M30/M25 -> 2.9370663
A36: 2018 | B36: =B31/B26 -> 2.7690972 | C36: =C31/C26 -> 2.934245 | D36: =D31/D26 -> 3.1563377 | E36: =E31/E26 -> 2.9814119 | F36: =F31/F26 -> 3.2426231 | G36: =G31/G26 -> 2.9939363 | H36: =H31/H26 -> 2.5781786 | I36: =I31/I26 -> 2.632566 | ... M36: =M31/M26 -> 3.1111495
A37: 2019 | B37: =B32/B27 -> 2.8771062 | C37: =C32/C27 -> 3.0252135 | D37: =D32/D27 -> 3.1356314 | E37: =E32/E27 -> 3.0043586 | F37: =F32/F27 -> 2.9056413 | G37: =G32/G27 -> 2.9749605 | H37: =H32/H27 -> 2.5250127 | I37: =I32/I27 -> 2.6634142 | ... M37: =M32/M27 -> 2.967646
A38: 2020 | B38: =B33/B28 -> 2.7384145 | C38: =C33/C28 -> 2.872337 | D38: =D33/D28 -> 2.6657199 | E38: =E33/E28 -> 2.257347 | F38: =F33/F28 -> 2.5925729 | G38: =G33/G28 -> 2.2470768 | H38: =H33/H28 -> 2.4243402 | I38: =I33/I28 -> 2.5214396 | ... M38: =M33/M28 -> 2.2490198
A39: 2021 | B39: =B34/B29 -> 2.0810789 | C39: =C34/C29 -> 2.0469639 | D39: =D34/D29 -> 1.9483598 | E39: =E34/E29 -> 2.0729748 | F39: =F34/F29 -> 2.3501642 | G39: =G34/G29 -> 2.5814718 | H39: =H34/H29 -> 2.5154397 | I39: =I34/I29 -> 2.5881682 | ... M39: =M34/M29 -> 2.7064102

Sheet spr
A1: 2017 | B1: =SUM('5. Liczba umów na miesiąc'!C8:N8) -> 2414169 | C1: =B1-SUM('2. Umowy OT'!D8:G11) -> 0
A2: 2018 | B2: =SUM('5. Liczba umów na miesiąc'!C9:N9) -> 2700469 | C2: =B2-(SUM('2. Umowy OT'!H8:I11)+SUM('2. Umowy OT'!O5:P10)+SUM('4. Umowy i Podróżni PUNPUT'!D7:E11)) -> 0
A3: 2019 | B3: =SUM('5. Liczba umów na miesiąc'!C10:N10) -> 2716203 | C3: =B3-(SUM('2. Umowy OT'!Q5:T10)+SUM('4. Umowy i Podróżni PUNPUT'!F7:I11)) -> 0
A4: 2020 | B4: =SUM('5. Liczba umów na miesiąc'!C11:N11) -> 1062923 | C4: =B4-(SUM('2. Umowy OT'!U5:X10)+SUM('4. Umowy i Podróżni PUNPUT'!J7:M11)) -> 0
A5: 2021 | B5: =SUM('5. Liczba umów na miesiąc'!C12:N12) -> 1680640 | C5: =B5-(SUM('2. Umowy OT'!Y5:AB10)+SUM('4. Umowy i Podróżni PUNPUT'!N7:Q11)) -> 0

Sheet 6. Niewypłacalności
B2: Powrót do spisu treści
B4: Tabela 6.1. Niewypłacalności w 2017 roku
B6: Lp. | C6: Nazwa Firmy | F6: Numer Ewidencyjny | I6: Wysokość zabezpieczenia finansowego | L6: Województwo | O6: Data
B8: 1. | C8: Biuro Turystyczno-Usługowe "GRO-TOUR" W. T. Piotrkiewicz Spółka jawna | F8: 8234 | I8: 28 000 EUR | L8: pomorskie | O8: lipiec 2017
B9: 2. | C9: Centrum Szkoleniowo-Konsultacyjne Logos Wiesław Scheller | F9: 4566 | I9: 7 000 EUR | L9: kujawsko-pomorskie | O9: lipiec 2017
B11: Tabela 6.2. Niewypłacalności w 2018 roku
B13: Lp. | C13: Nazwa Firmy | F13: Numer Ewidencyjny | I13: Wysokość zabezpieczenia finansowego | L13: Województwo | O13: Data
B15: 1. | C15: REJSCLUB.PL Zbigniew Kąkol | F15: 6934 | I15: 830 000 PLN | L15: pomorskie | O15: luty 2018
B16: 2. | C16: Biuro Turystyczno – Usługowe GROMADA GORZÓW Reneusz Wachol | F16: 4281 | I16: 185 459,40 PLN | L16: lubuskie | O16: kwiecień 2018
B17: 3. | C17: MARTIN Przedsiębiorstwo Turystyczne Beata Tyczyńska Paweł Tyczyński sp. j. | F17: 266 | I17: 123 639,60 PLN | L17: wielkopolskie | O17: czerwiec 2018
B18: 4. | C18: Millennium Travel International Sp. z o.o. | F18: 7334 | I18: 1 200 000 PLN | L18: dolnośląskie | O18: wrzesień 2018
B20: Tabela 6.3. Niewypłacalności w 2019 roku
B22: Lp. | C22: Nazwa Firmy | F22: Numer Ewidencyjny | I22: Wysokość zabezpieczenia finansowego | L22: Województwo | O22: Data
B24: 1. | C24: BIURO TURYSTYCZNE "MISTRAL" DANIEL WOJNICKI SPÓŁKA JAWNA | F24: 4642 | I24: 550 000 PLN | L24: śląskie | O24: luty 2019
B25: 2. | C25: BIURO TURYSTYKI "WYCIECZKA" JERZY SOCHACKI | F25: 186 | I25: 208 505 PLN | L25: łódzkie | O25: luty 2019
B26: 3. | C26: Dybowski Tomasz Przedsiębiorstwo Handlowo Usługowe VOYAGER, Biuro Turystyczne VOYAGER | F26: 3134 | I26: 116 762,80 PLN | L26: kujawsko-pomorskie | O26: luty 2019
B27: 4. | C27: ROBERT OCHWAT OLIMP-CENTRUM PROMOCJI I LAST MINUTE | F27: 4687 | I27: 1 800 000 PLN | L27: małopolskie | O27: marzec 2019
B28: 5. | C28: BIURO PODRÓŻY "MALTUR" Andrzej Kiermasz | F28: 5653 | I28: 331 177,5 PLN | L28: pomorskie | O28: maj 2019
B29: 6. | C29: MEDITERRANEUM SPÓŁKA Z OGRANICZONĄ ODPOWIEDZIALNOŚCIĄ | F29: 1299 | I29: 1 260 000 PLN | L29: wielkopolskie | O29: lipiec 2019
B30: 7. | C30: KUCIERSKI ŁUKASZ "STEJA TRAVEL" | F30: 4439 | I30: 911 939,20 PLN | L30: śląskie | O30: lipiec 2019
B31: 8. | C31: KAMA TOURS Sławomir Dziewulski | F31: 22710 | I31: 215 080 PLN | L31: lubelskie | O31: lipiec 2019
B32: 9. | C32: NECKERMANN POLSKA BIURO PODRÓŻY SPÓŁKA Z OGRANICZONĄ ODPOWIEDZIALNOŚCIĄ | F32: 617 | I32: 25 000 000 PLN | L32: mazowieckie | O32: wrzesień 2019
B33: 10. | C33: BIURO PODRÓŻY JADENAWYCIECZKE.PL ALEKSANDRA OBRĘBSKA | F33: 24547 | I33: 215 080 PLN | L33: łódzkie | O33: październik 2019
B34: 11. | C34: BIURO PODRÓŻY AKTIV TOURS REISEN SPÓŁKA Z OGRANICZONĄ ODPOWIEDZIALNOŚCIĄ | F34: 5783 | I34: 405 000 PLN | L34: pomorskie | O34: grudzień 2019
B36: Tabela 6.4. Niewypłacalności w 2020 roku
B38: Lp. | C38: Nazwa Firmy | F38: Numer Ewidencyjny | I38: Wysokość zabezpieczenia finansowego | L38: Województwo | O38: Data
B40: 1. | C40: TOURASIA POLSKA SPÓŁKA AKCYJNA | F40: 10570 | I40: 607 800 PLN | L40: mazowieckie | O40: kwiecień 2020
B41: 2. | C41: AKTYWNI + LESZEK KOBYŁECKI | F41: 10089 | I41: 32 262 PLN | L41: mazowieckie | O41: czerwiec 2020
B42: 3. | C42: BIURO PODRÓŻY CELTUR KATARZYNA UMŻYŃSKA | F42: 3707 | I42: 120 444,8 PLN | L42: kujawsko-pomorskie | O42: czerwiec 2020
B43: 4. | C43: Biuro Podróży RUTA TOUR s.c. Zuzanna Zygmunt Tomasz Ruta | F43: 173 | I43: 215 080 PLN | L43: wielkopolskie | O43: lipiec 2020
B44: 5. | C44: Biuro Turystyczne Ka-Ma Katarzyna Stein | F44: 9080 | I44: 180 667 PLN | L44: śląskie | O44: sierpień 2020
B45: 6. | C45: PRESTIGE TRAVEL Joanna Dołmatow | F45: 9028 | I45: 19 357 PLN | L45: podlaskie | O45: wrzesień 2020
B46: 7. | C46: Biuro Podróży HERMES TRAVEL Zawada Katarzyna Monika | F46: 9236 | I46: 350 000 PLN | L46: mazowieckie | O46: listopad 2020
B47: 8. | C47: Aleksandra Zakroczymska AGENCJA TURYSTYCZNA TRAF II | F47: 9028 | I47: 19 157 PLN | L47: śląskie | O47: listopad 2020
B49: Tabela 6.5. Niewypłacalności w 2021 roku
B51: Lp. | C51: Nazwa Firmy | F51: Numer Ewidencyjny | I51: Wysokość zabezpieczenia finansowego | L51: Województwo | O51: Data
B53: 1. | C53: BAJA TEAM Jarosław Lewiński | F53: 7796 | I53: 322 620 PLN | L53: kujawsko-pomorskie | O53: styczeń 2021
B54: 2. | C54: Grupa TUR-MEDIA Sp. z o.o. | F54: 21604 | I54: 32 262 PLN | L54: świętokrzyskie | O54: maj 2021
B55: 3. | C55: Mouzenidis Travel Sp. z o.o. | F55: 7933 | I55: 840 000 PLN | L55: mazowieckie | O55: wrzesień 2021
B56: 4. | C56: Przedsiębiorstwo Turystyczno Handlowe "Janter" Sp. z o.o. | F56: 3718 | I56: 280 000 PLN | L56: mazowieckie | O56: październik 2021
...
